BEGIN:VCALENDAR
VERSION:2.0
PRODID:-//Aspen Jewish Congregation - ECPv6.15.20//NONSGML v1.0//EN
CALSCALE:GREGORIAN
METHOD:PUBLISH
X-ORIGINAL-URL:https://www.aspenjewish.org
X-WR-CALDESC:Events for Aspen Jewish Congregation
REFRESH-INTERVAL;VALUE=DURATION:PT1H
X-Robots-Tag:noindex
X-PUBLISHED-TTL:PT1H
BEGIN:VTIMEZONE
TZID:America/Denver
BEGIN:DAYLIGHT
TZOFFSETFROM:-0700
TZOFFSETTO:-0600
TZNAME:MDT
DTSTART:20250309T090000
END:DAYLIGHT
BEGIN:STANDARD
TZOFFSETFROM:-0600
TZOFFSETTO:-0700
TZNAME:MST
DTSTART:20251102T080000
END:STANDARD
BEGIN:DAYLIGHT
TZOFFSETFROM:-0700
TZOFFSETTO:-0600
TZNAME:MDT
DTSTART:20260308T090000
END:DAYLIGHT
BEGIN:STANDARD
TZOFFSETFROM:-0600
TZOFFSETTO:-0700
TZNAME:MST
DTSTART:20261101T080000
END:STANDARD
BEGIN:DAYLIGHT
TZOFFSETFROM:-0700
TZOFFSETTO:-0600
TZNAME:MDT
DTSTART:20270314T090000
END:DAYLIGHT
BEGIN:STANDARD
TZOFFSETFROM:-0600
TZOFFSETTO:-0700
TZNAME:MST
DTSTART:20271107T080000
END:STANDARD
END:VTIMEZONE
BEGIN:VEVENT
DTSTART;TZID=America/Denver:20260821T180000
DTEND;TZID=America/Denver:20260821T190000
DTSTAMP:20260422T195319
CREATED:20260420T225538Z
LAST-MODIFIED:20260420T225538Z
UID:10000546-1787335200-1787338800@www.aspenjewish.org
SUMMARY:Shabbat in the Garden
DESCRIPTION:Enjoy music-filled services surrounded by wildflowers and mountain views\, then stay to connect with friends and community over refreshments.
URL:https://www.aspenjewish.org/event/shabbat-in-the-garden/2026-08-21/
LOCATION:Aspen Chapel Garden\, 77 Meadowood Drive\, Aspen\, CO\, 81611\, United States
CATEGORIES:Shabbat
ATTACH;FMTTYPE=image/jpeg:https://www.aspenjewish.org/wp-content/uploads/2026/04/68D24F01-6BC8-4219-BD7F-B78DA0959C7D_1_201_a-scaled.jpeg
END:VEVENT
BEGIN:VEVENT
DTSTART;TZID=America/Denver:20260828T164500
DTEND;TZID=America/Denver:20260828T200000
DTSTAMP:20260422T195319
CREATED:20260420T225304Z
LAST-MODIFIED:20260420T225352Z
UID:10000537-1787935500-1787947200@www.aspenjewish.org
SUMMARY:Shabbat at Camp Bashert
DESCRIPTION:4:45 Family Funtime and Cocktails & Conversation \n6:00 pm Shabbat Evening Service and Dinner \n\n\n\n\n\n\nCamp Bashert\, tucked among the trees along the Roaring Fork River\, invites reflection\, celebration\, and a deeper sense of connection. This private property is generously shared with us by Melinda Goldrich for services and gatherings.
URL:https://www.aspenjewish.org/event/shabbat-at-camp-bashert-aug/
LOCATION:Camp Bashert\, 1287 County Road 154\, Glenwood Springs\, CO\, 81601\, United States
CATEGORIES:Build Community,Shabbat
ATTACH;FMTTYPE=image/jpeg:https://www.aspenjewish.org/wp-content/uploads/2026/04/AspenJewishCongregationOutdoorSermonGlenwoodSprings-41-scaled.jpg
END:VEVENT
BEGIN:VEVENT
DTSTART;VALUE=DATE:20260911
DTEND;VALUE=DATE:20260914
DTSTAMP:20260422T195319
CREATED:20260203T235614Z
LAST-MODIFIED:20260203T235614Z
UID:10000497-1789084800-1789343999@www.aspenjewish.org
SUMMARY:Rosh Hashanah 5787
DESCRIPTION:
URL:https://www.aspenjewish.org/event/rosh-hashanah-5787/
CATEGORIES:High Holidays
ATTACH;FMTTYPE=image/png:https://www.aspenjewish.org/wp-content/uploads/2025/08/9.png
END:VEVENT
BEGIN:VEVENT
DTSTART;VALUE=DATE:20260920
DTEND;VALUE=DATE:20260922
DTSTAMP:20260422T195319
CREATED:20260203T235750Z
LAST-MODIFIED:20260203T235750Z
UID:10000498-1789862400-1790035199@www.aspenjewish.org
SUMMARY:Yom Kippur 5787
DESCRIPTION:
URL:https://www.aspenjewish.org/event/yom-kippur-5787/
CATEGORIES:High Holidays
ATTACH;FMTTYPE=image/png:https://www.aspenjewish.org/wp-content/uploads/2025/08/8.png
END:VEVENT
BEGIN:VEVENT
DTSTART;VALUE=DATE:20260925
DTEND;VALUE=DATE:20261003
DTSTAMP:20260422T195319
CREATED:20260204T001212Z
LAST-MODIFIED:20260204T001212Z
UID:10000499-1790294400-1790985599@www.aspenjewish.org
SUMMARY:Sukkot 5787
DESCRIPTION:
URL:https://www.aspenjewish.org/event/sukkot-5787/
CATEGORIES:High Holidays
ATTACH;FMTTYPE=image/png:https://www.aspenjewish.org/wp-content/uploads/2026/02/Sukkot-Header.png
END:VEVENT
BEGIN:VEVENT
DTSTART;VALUE=DATE:20261003
DTEND;VALUE=DATE:20261005
DTSTAMP:20260422T195319
CREATED:20260204T001323Z
LAST-MODIFIED:20260204T001323Z
UID:10000500-1790985600-1791158399@www.aspenjewish.org
SUMMARY:Simchat Torah 5787
DESCRIPTION:
URL:https://www.aspenjewish.org/event/simchat-torah-5787/
CATEGORIES:High Holidays
ATTACH;FMTTYPE=image/png:https://www.aspenjewish.org/wp-content/uploads/2026/02/Simchat-Torah-Header.png
END:VEVENT
END:VCALENDAR