BEGIN:VCALENDAR
VERSION:2.0
PRODID:-//Aspen Jewish Congregation - ECPv6.15.20//NONSGML v1.0//EN
CALSCALE:GREGORIAN
METHOD:PUBLISH
X-WR-CALNAME:Aspen Jewish Congregation
X-ORIGINAL-URL:https://www.aspenjewish.org
X-WR-CALDESC:Events for Aspen Jewish Congregation
REFRESH-INTERVAL;VALUE=DURATION:PT1H
X-Robots-Tag:noindex
X-PUBLISHED-TTL:PT1H
BEGIN:VTIMEZONE
TZID:America/Denver
BEGIN:DAYLIGHT
TZOFFSETFROM:-0700
TZOFFSETTO:-0600
TZNAME:MDT
DTSTART:20240310T090000
END:DAYLIGHT
BEGIN:STANDARD
TZOFFSETFROM:-0600
TZOFFSETTO:-0700
TZNAME:MST
DTSTART:20241103T080000
END:STANDARD
BEGIN:DAYLIGHT
TZOFFSETFROM:-0700
TZOFFSETTO:-0600
TZNAME:MDT
DTSTART:20250309T090000
END:DAYLIGHT
BEGIN:STANDARD
TZOFFSETFROM:-0600
TZOFFSETTO:-0700
TZNAME:MST
DTSTART:20251102T080000
END:STANDARD
BEGIN:DAYLIGHT
TZOFFSETFROM:-0700
TZOFFSETTO:-0600
TZNAME:MDT
DTSTART:20260308T090000
END:DAYLIGHT
BEGIN:STANDARD
TZOFFSETFROM:-0600
TZOFFSETTO:-0700
TZNAME:MST
DTSTART:20261101T080000
END:STANDARD
END:VTIMEZONE
BEGIN:VEVENT
DTSTART;TZID=America/Denver:20250718T180000
DTEND;TZID=America/Denver:20250718T180000
DTSTAMP:20260420T090755
CREATED:20250602T180750Z
LAST-MODIFIED:20250717T143626Z
UID:10000018-1752861600-1752861600@www.aspenjewish.org
SUMMARY:Shabbat Evening Celebrating Rabbi Shira
DESCRIPTION:6:00 PM | Shabbat service at Aspen Chapel \n7:15 PM | Dinner at Highland Alehouse \nWelcome Shabbat and celebrate Rabbi Shira’s installation\, followed by dinner at the Alehouse. \nRSVP requested for dinner\, see below. \n 
URL:https://www.aspenjewish.org/event/shabbat-evening-services-dinner-celebrating-rabbi-shiras-installation/
LOCATION:Aspen Chapel\, 77 Meadowood Drive\, Aspen\, CO\, 81611\, United States
CATEGORIES:Shabbat
ATTACH;FMTTYPE=image/jpeg:https://www.aspenjewish.org/wp-content/uploads/2025/06/Shira-Installation.jpg
END:VEVENT
BEGIN:VEVENT
DTSTART;TZID=America/Denver:20250712T103000
DTEND;TZID=America/Denver:20250712T103000
DTSTAMP:20260420T090755
CREATED:20250602T180623Z
LAST-MODIFIED:20250626T122428Z
UID:10000016-1752316200-1752316200@www.aspenjewish.org
SUMMARY:Mountaintop Shabbat & Jewish Bluegrass Concert
DESCRIPTION:A summer highlight\, this joyful\, music-filled Shabbat morning at 11\,212-ft. features Rabbi Shira and the incredible Jewish bluegrass band Jacob’s Ladder. A short service will be followed by lots of “get up and dance” music. Mountaintop Shabbat is community\, celebration\, and spirit – all set against a breathtaking backdrop. Please bring your friends and family\, something to sit on\, and a love of the mountains. Breakfast is on us! Underwritten by the Zilberman Family. \nJacob’s Ladder is an internationally touring band pushing the boundaries of contemporary Jewish music and traditional American Roots music through Jewish communal singing and prayer. In melding these two musical worlds\, they tell their story through Eastern European Ashkenazic and Sephardic Jewish traditions and their American heritage\, which influences their unique musical style. Jacob’s Ladder has been performing coast to coast and continues to shed light on the conversation of identity\, particularly regarding what it means to be an American Jew.
URL:https://www.aspenjewish.org/event/mountaintop-shabbat-jewish-bluegrass-concert-with-jacobs-ladder/
LOCATION:Aspen Mountain Concert Meadow\, 601 East Dean Street\, Aspen\, CO\, 81611\, United States
CATEGORIES:Build Community
ATTACH;FMTTYPE=image/jpeg:https://www.aspenjewish.org/wp-content/uploads/2025/06/MountintopShabbat.jpg
END:VEVENT
BEGIN:VEVENT
DTSTART;TZID=America/Denver:20250711T180000
DTEND;TZID=America/Denver:20250711T180000
DTSTAMP:20260420T090755
CREATED:20250602T180600Z
LAST-MODIFIED:20250626T122428Z
UID:10000015-1752256800-1752256800@www.aspenjewish.org
SUMMARY:Shabbat Evening Service
DESCRIPTION:Enjoy music-filled services surrounded by wildflowers and mountain views. This week we will be honoring outgoing board members including past-president\, Craig Navias. This week will feature a catered reception including passed hor d’oeuvres and refreshments.
URL:https://www.aspenjewish.org/event/shabbat-evening-services-honoring-craig-navias/
LOCATION:Aspen Chapel Garden\, 77 Meadowood Drive\, Aspen\, CO\, 81611\, United States
CATEGORIES:Shabbat
ATTACH;FMTTYPE=image/jpeg:https://www.aspenjewish.org/wp-content/uploads/2025/06/Shabbat_in_the_Garden-e1750356853749.jpg
END:VEVENT
BEGIN:VEVENT
DTSTART;TZID=America/Denver:20250711T164500
DTEND;TZID=America/Denver:20250711T164500
DTSTAMP:20260420T090755
CREATED:20250602T180523Z
LAST-MODIFIED:20250626T122428Z
UID:10000014-1752252300-1752252300@www.aspenjewish.org
SUMMARY:Cocktails & Conversation with Rabbi Shira
DESCRIPTION:How big should I be? Finding strength without crowding others \nJoin us for food\, drink\, and a fun\, substantive\, and reflective rabbi-led conversation before Shabbat services. \nIn Judaism\, middot are the inner traits — like patience\, gratitude\, and humility — that we all have\, but that need practice to really shine. We’ll explore one middah a week\, using timeless Jewish wisdom to help us live with more clarity\, courage\, and compassion.
URL:https://www.aspenjewish.org/event/cocktails-conversation-with-rabbi-shira/
LOCATION:Aspen Chapel Gallery\, 77 Meadowood Drive\, Aspen\, CO\, 81611\, United States
CATEGORIES:Learn
ATTACH;FMTTYPE=image/jpeg:https://www.aspenjewish.org/wp-content/uploads/2025/06/cocktails-and-conversation.jpg
END:VEVENT
BEGIN:VEVENT
DTSTART;TZID=America/Denver:20250710T173000
DTEND;TZID=America/Denver:20250710T183000
DTSTAMP:20260420T090755
CREATED:20250602T180429Z
LAST-MODIFIED:20250703T182130Z
UID:10000013-1752168600-1752172200@www.aspenjewish.org
SUMMARY:An Evening with Rabbi Angela Buchdahl
DESCRIPTION:In advance of releasing her memoir\, “Heart of a Stranger\,” New York City Central Synagogue Senior Rabbi Angela Buchdahl will discuss her life and the Jewish moment we’re living in. \nRabbi Angela Warnick Buchdahl serves as the Senior Rabbi of Central Synagogue in New York City and is the first woman to lead Central’s Reform congregation in its 180-year history. Born in  Korea to a Jewish American father and a Korean Buddhist mother\, Rabbi Buchdahl is the first Asian American to be ordained as cantor or rabbi in North America. Rabbi Buchdahl has been nationally recognized for her innovations in leading worship\, which draw large crowds both in the congregation’s historic Main Sanctuary and via live stream and cable broadcast to viewers in more than 100 countries. Rabbi Buchdahl has been listed in Newsweek’s “America’s 50 Most Influential Rabbis.” \nRSVPs required\, see below.
URL:https://www.aspenjewish.org/event/an-evening-with-rabbi-angela-buchdahl/
LOCATION:Paepcke Auditorium\, 1000 N. Third St.\, Aspen\, CO\, 81611\, United States
CATEGORIES:Learn
ATTACH;FMTTYPE=image/jpeg:https://www.aspenjewish.org/wp-content/uploads/2025/06/RabbiAngelaBuchdahl.jpg
END:VEVENT
BEGIN:VEVENT
DTSTART;TZID=America/Denver:20250708T090000
DTEND;TZID=America/Denver:20250708T100000
DTSTAMP:20260420T090755
CREATED:20250619T182328Z
LAST-MODIFIED:20250626T122428Z
UID:10000057-1751965200-1751968800@www.aspenjewish.org
SUMMARY:Sacred Cycles | Preparing for the High Holidays: Elul and the Journey of Transformation
DESCRIPTION:Rabbinic Intern Jennifer Moses will guide us as we delve into the flow of the Jewish calendar and explore four holiday-related themes while enjoying coffee and light bites together. Come for one session or attend them all—everyone is welcome! \nJuly 1\, 9-10 am – Shabbat: A Sanctuary in Time \nJuly 8\, 9-10 am – Preparing for the High Holidays: Elul and the Journey of Transformation \nJuly 22\, 9-10 am – Sukkot and Simchat Torah: Finding Joy in Impermanence \nJuly 29\, 9-10 am – Passover to Shavuot: The Age of Anxiety \nRSVPs requested\, see below. To sign up for the entire series\, email our office. \n 
URL:https://www.aspenjewish.org/event/sacred-cycles-jewish-time-the-spiritual-year-6/
LOCATION:Third Street Center\, 520 S 3rd Street\, Carbondale\, CO\, 81623\, United States
CATEGORIES:Learn
ATTACH;FMTTYPE=image/png:https://www.aspenjewish.org/wp-content/uploads/2025/06/Sacred-Cycles-2.png
END:VEVENT
BEGIN:VEVENT
DTSTART;TZID=America/Denver:20250707T120000
DTEND;TZID=America/Denver:20250707T130000
DTSTAMP:20260420T090755
CREATED:20250619T180815Z
LAST-MODIFIED:20250626T122428Z
UID:10000053-1751889600-1751893200@www.aspenjewish.org
SUMMARY:Sacred Cycles | Preparing for the High Holidays: Elul and the Journey of Transformation
DESCRIPTION:June 30\, 12-1 pm – Shabbat: A Sanctuary in Time \nJuly 7\, 12-1 pm – Preparing for the High Holidays: Elul and the Journey of Transformation \nJul 21\, 12-1 pm – Sukkot & Simchat Torah: Finding Joy in Impermanence \nJuly 28\, 12-1 pm – Passover to Shavuot: The Age of Anxiety \nRSVPs requested\, see below. To sign up for the full series\, email our office. \n 
URL:https://www.aspenjewish.org/event/sacred-cycles-jewish-time-the-spiritual-year-2/
LOCATION:Aspen Chapel Gallery\, 77 Meadowood Drive\, Aspen\, CO\, 81611\, United States
CATEGORIES:Learn
ATTACH;FMTTYPE=image/png:https://www.aspenjewish.org/wp-content/uploads/2025/06/Sacred-Cycles-2.png
END:VEVENT
BEGIN:VEVENT
DTSTART;TZID=America/Denver:20250705T090000
DTEND;TZID=America/Denver:20250705T090000
DTSTAMP:20260420T090755
CREATED:20250602T180237Z
LAST-MODIFIED:20250626T122428Z
UID:10000010-1751706000-1751706000@www.aspenjewish.org
SUMMARY:AJC at the Aspen Saturday Market
DESCRIPTION:Stop by our booth at the Aspen Saturday Market to snack on some challah\, pick up a little swag\, and enjoy a few kids’ activities\, all while connecting with Rabbi Shira and the AJC Crew.
URL:https://www.aspenjewish.org/event/ajc-at-the-aspen-saturday-market/
LOCATION:Hopkins & Hunter\, S Hunter St & E Hopkins Ave\, Aspen\, CO\, 81611\, United States
CATEGORIES:Build Community
ATTACH;FMTTYPE=image/jpeg:https://www.aspenjewish.org/wp-content/uploads/2025/06/AspenSaturdayMarket.jpg
END:VEVENT
BEGIN:VEVENT
DTSTART;TZID=America/Denver:20250704T180000
DTEND;TZID=America/Denver:20250704T180000
DTSTAMP:20260420T090755
CREATED:20250602T180113Z
LAST-MODIFIED:20250626T122428Z
UID:10000008-1751652000-1751652000@www.aspenjewish.org
SUMMARY:Shabbat Evening Service
DESCRIPTION:Enjoy music-filled services surrounded by wildflowers and mountain views\, then stay to connect with friends and community over refreshments.
URL:https://www.aspenjewish.org/event/shabbat-evening-service-2/
LOCATION:Aspen Chapel Garden\, 77 Meadowood Drive\, Aspen\, CO\, 81611\, United States
CATEGORIES:Shabbat
ATTACH;FMTTYPE=image/jpeg:https://www.aspenjewish.org/wp-content/uploads/2025/06/Shabbat_in_the_Garden-e1750356853749.jpg
END:VEVENT
BEGIN:VEVENT
DTSTART;TZID=America/Denver:20250704T170000
DTEND;TZID=America/Denver:20250704T210000
DTSTAMP:20260420T090755
CREATED:20250602T180215Z
LAST-MODIFIED:20250626T122450Z
UID:10000009-1751648400-1751662800@www.aspenjewish.org
SUMMARY:AJC at Carbondale First Friday
DESCRIPTION:Bring your friends and family to AJC’s booth and share a fun Shabbat moment noshing on challah and schmoozing with Rabbi Sima.
URL:https://www.aspenjewish.org/event/ajc-at-carbondale-first-friday/
LOCATION:Main Street\, 853-899 Main St\, Carbondale\, CO\, 81623\, United States
CATEGORIES:Build Community
ATTACH;FMTTYPE=image/jpeg:https://www.aspenjewish.org/wp-content/uploads/2025/06/CarbondaleFirstFridays.jpg
END:VEVENT
BEGIN:VEVENT
DTSTART;TZID=America/Denver:20250701T090000
DTEND;TZID=America/Denver:20250701T100000
DTSTAMP:20260420T090755
CREATED:20250619T181819Z
LAST-MODIFIED:20250620T135411Z
UID:10000056-1751360400-1751364000@www.aspenjewish.org
SUMMARY:Sacred Cycles | Shabbat: A Sanctuary in Time
DESCRIPTION:Rabbinic Intern Jennifer Moses will guide us as we delve into the flow of the Jewish calendar and explore four holiday-related themes while enjoying coffee and light bites together. Come for one session or attend them all—everyone is welcome! \nJuly 1\, 9-10 am – Shabbat: A Sanctuary in Time \nJuly 8\, 9-10 am – Preparing for the High Holidays: Elul and the Journey of Transformation \nJuly 22\, 9-10 am – Sukkot and Simchat Torah: Finding Joy in Impermanence \nJuly 29\, 9-10 am – Passover to Shavuot: The Age of Anxiety \nRSVPs requested\, see below. To sign up for the entire series\, email our office.
URL:https://www.aspenjewish.org/event/sacred-cycles-jewish-time-the-spiritual-year-5/
LOCATION:Third Street Center\, 520 S 3rd Street\, Carbondale\, CO\, 81623\, United States
CATEGORIES:Learn
ATTACH;FMTTYPE=image/png:https://www.aspenjewish.org/wp-content/uploads/2025/06/Sacred-Cycles-2.png
END:VEVENT
BEGIN:VEVENT
DTSTART;TZID=America/Denver:20250630T120000
DTEND;TZID=America/Denver:20250630T130000
DTSTAMP:20260420T090755
CREATED:20250619T180106Z
LAST-MODIFIED:20250625T172545Z
UID:10000052-1751284800-1751288400@www.aspenjewish.org
SUMMARY:Sacred Cycles | Shabbat: A Sanctuary in Time
DESCRIPTION:Rabbinic Intern Jennifer Moses will guide us as we delve into the flow of the Jewish calendar and explore four holiday-related themes while enjoying lunch together. Come for one session or attend them all—everyone is welcome! \nJune 30\, 12-1 pm – Shabbat: A Sanctuary in Time \nJuly 7\, 12-1 pm – Preparing for the High Holidays: Elul and the Journey of Transformation \nJul 21\, 12-1 pm – Sukkot & Simchat Torah: Finding Joy in Impermanence \nJuly 28\, 12-1 pm – Passover to Shavuot: The Age of Anxiety \nRSVPs requested\, see below. To sign up for the full series\, email our office.
URL:https://www.aspenjewish.org/event/sacred-cycles-jewish-time-the-spiritual-year/
LOCATION:Aspen Chapel Gallery\, 77 Meadowood Drive\, Aspen\, CO\, 81611\, United States
CATEGORIES:Learn
ATTACH;FMTTYPE=image/png:https://www.aspenjewish.org/wp-content/uploads/2025/06/Sacred-Cycles-2.png
END:VEVENT
BEGIN:VEVENT
DTSTART;TZID=America/Denver:20250628T103000
DTEND;TZID=America/Denver:20250628T103000
DTSTAMP:20260420T090755
CREATED:20250602T175846Z
LAST-MODIFIED:20250626T122450Z
UID:10000005-1751106600-1751106600@www.aspenjewish.org
SUMMARY:Ajax Shabbat Morning Service
DESCRIPTION:Hike up Ajax or take the gondola for a short morning service and time with friends old and new. We’ll have a light breakfast for you and for Fido. BYO camp chair or blanket.
URL:https://www.aspenjewish.org/event/ajax-shabbat-morning-service/
LOCATION:Aspen Mountain Concert Meadow\, 601 East Dean Street\, Aspen\, CO\, 81611\, United States
CATEGORIES:Shabbat
ATTACH;FMTTYPE=image/jpeg:https://www.aspenjewish.org/wp-content/uploads/2025/06/ShabbatMornings_on_Ajax.jpg
END:VEVENT
BEGIN:VEVENT
DTSTART;TZID=America/Denver:20250627T180000
DTEND;TZID=America/Denver:20250627T180000
DTSTAMP:20260420T090755
CREATED:20250602T175439Z
LAST-MODIFIED:20250626T122450Z
UID:10000004-1751047200-1751047200@www.aspenjewish.org
SUMMARY:Shabbat Evening Service
DESCRIPTION:Enjoy music-filled services surrounded by wildflowers and mountain views\, then stay to connect with friends and community over refreshments. If it rains\, we’ll be inside the chapel.
URL:https://www.aspenjewish.org/event/shabbat-evening-service-7/
LOCATION:Aspen Chapel Garden\, 77 Meadowood Drive\, Aspen\, CO\, 81611\, United States
CATEGORIES:Shabbat
ATTACH;FMTTYPE=image/jpeg:https://www.aspenjewish.org/wp-content/uploads/2025/06/Shabbat_in_the_Garden-e1750356853749.jpg
END:VEVENT
BEGIN:VEVENT
DTSTART;TZID=America/Denver:20250627T164500
DTEND;TZID=America/Denver:20250627T164500
DTSTAMP:20260420T090755
CREATED:20250602T175217Z
LAST-MODIFIED:20250626T122450Z
UID:10000003-1751042700-1751042700@www.aspenjewish.org
SUMMARY:Annual Membership Meeting
DESCRIPTION:Part celebration\, part sneak peek\, part open mic for your ideas\, the AJC’s annual membership meeting is an opportunity to reflect on a meaningful year and dream forward as a community. You’ll get the inside scoop on what’s happening at the AJC and the chance to ask questions\, share your thoughts\, and vote in our board election.
URL:https://www.aspenjewish.org/event/annual-membership-meeting/
LOCATION:Aspen Chapel Gallery\, 77 Meadowood Drive\, Aspen\, CO\, 81611\, United States
CATEGORIES:Build Community
ATTACH;FMTTYPE=image/jpeg:https://www.aspenjewish.org/wp-content/uploads/2025/06/Membership-Meeting.jpg
END:VEVENT
BEGIN:VEVENT
DTSTART;TZID=America/Denver:20250624T100000
DTEND;TZID=America/Denver:20250624T120000
DTSTAMP:20260420T090755
CREATED:20250602T175104Z
LAST-MODIFIED:20250626T122450Z
UID:10000002-1750759200-1750766400@www.aspenjewish.org
SUMMARY:AJC at LIFT-UP
DESCRIPTION:AJC’s Social Action Committee partners with LIFT-UP\, the leader in providing equitable food security for individuals and families from Parachute to Aspen. Join us as we assemble bags of food for families in our community. \nThis event is suitable for anyone 8 years and older who can stand or walk for 2 hours and periodically lift the equivalent of full bag of groceries. \nRSVPs required. Please email our office.
URL:https://www.aspenjewish.org/event/ajc-at-lift-up/
LOCATION:LIFT-UP\, 100 Midland Ave #280\, Glenwood Springs\, CO\, 81601\, United States
CATEGORIES:Build Community
ATTACH;FMTTYPE=image/jpeg:https://www.aspenjewish.org/wp-content/uploads/2025/06/AJC_at-LiftUP.jpg
END:VEVENT
BEGIN:VEVENT
DTSTART;TZID=America/Denver:20250620T164500
DTEND;TZID=America/Denver:20250620T203000
DTSTAMP:20260420T090755
CREATED:20250602T174940Z
LAST-MODIFIED:20250626T122450Z
UID:10000001-1750437900-1750451400@www.aspenjewish.org
SUMMARY:Shabbat Evening at Camp Bashert
DESCRIPTION:Happy Hour & Family Funtime | 4:45 pm \nShabbat Evening Service & Dinner | 6 pm \nJoin us starting at 4:45 pm for Happy Hour & Family Funtime to schmooze and nosh with friends\, enjoy lawn games and a dip in the pool. \n\n\n\nAt 6 pm come together for Shabbat services\, followed by dinner.
URL:https://www.aspenjewish.org/event/shabbat-evening-at-camp-bashert/
LOCATION:Camp Bashert\, 1287 County Road 154\, Glenwood Springs\, CO\, 81601\, United States
CATEGORIES:Shabbat
ATTACH;FMTTYPE=image/jpeg:https://www.aspenjewish.org/wp-content/uploads/2025/06/Shabbat_at_CampBashert.jpg
END:VEVENT
END:VCALENDAR