BEGIN:VCALENDAR
VERSION:2.0
PRODID:-//Aspen Jewish Congregation - ECPv6.15.20//NONSGML v1.0//EN
CALSCALE:GREGORIAN
METHOD:PUBLISH
X-WR-CALNAME:Aspen Jewish Congregation
X-ORIGINAL-URL:https://www.aspenjewish.org
X-WR-CALDESC:Events for Aspen Jewish Congregation
REFRESH-INTERVAL;VALUE=DURATION:PT1H
X-Robots-Tag:noindex
X-PUBLISHED-TTL:PT1H
BEGIN:VTIMEZONE
TZID:America/Denver
BEGIN:DAYLIGHT
TZOFFSETFROM:-0700
TZOFFSETTO:-0600
TZNAME:MDT
DTSTART:20240310T090000
END:DAYLIGHT
BEGIN:STANDARD
TZOFFSETFROM:-0600
TZOFFSETTO:-0700
TZNAME:MST
DTSTART:20241103T080000
END:STANDARD
BEGIN:DAYLIGHT
TZOFFSETFROM:-0700
TZOFFSETTO:-0600
TZNAME:MDT
DTSTART:20250309T090000
END:DAYLIGHT
BEGIN:STANDARD
TZOFFSETFROM:-0600
TZOFFSETTO:-0700
TZNAME:MST
DTSTART:20251102T080000
END:STANDARD
BEGIN:DAYLIGHT
TZOFFSETFROM:-0700
TZOFFSETTO:-0600
TZNAME:MDT
DTSTART:20260308T090000
END:DAYLIGHT
BEGIN:STANDARD
TZOFFSETFROM:-0600
TZOFFSETTO:-0700
TZNAME:MST
DTSTART:20261101T080000
END:STANDARD
END:VTIMEZONE
BEGIN:VEVENT
DTSTART;TZID=America/Denver:20251002T170000
DTEND;TZID=America/Denver:20251002T180000
DTSTAMP:20260420T024038
CREATED:20250815T212246Z
LAST-MODIFIED:20250817T165657Z
UID:10000091-1759424400-1759428000@www.aspenjewish.org
SUMMARY:Neila
DESCRIPTION:The gates are closing! The Rabbi Shira and musicians lead the congregation in one final prayer service\, bring all of the exuberance and reflect of the season to the forefront.
URL:https://www.aspenjewish.org/event/neila/
LOCATION:Paepcke Auditorium\, 1000 N. Third St.\, Aspen\, CO\, 81611\, United States
CATEGORIES:High Holidays
ATTACH;FMTTYPE=image/png:https://www.aspenjewish.org/wp-content/uploads/2025/08/8.png
END:VEVENT
BEGIN:VEVENT
DTSTART;TZID=America/Denver:20251002T153000
DTEND;TZID=America/Denver:20251002T163000
DTSTAMP:20260420T024038
CREATED:20250815T212157Z
LAST-MODIFIED:20250817T165713Z
UID:10000090-1759419000-1759422600@www.aspenjewish.org
SUMMARY:Text Study with Rabbi Shira
DESCRIPTION:What do ancient texts have to say about forgiveness\, failure\, and starting again? A lot\, it turns out. Come explore them with Rabbi Shira.
URL:https://www.aspenjewish.org/event/text-study-with-rabbi-shira/
LOCATION:Paepcke Auditorium\, 1000 N. Third St.\, Aspen\, CO\, 81611\, United States
CATEGORIES:High Holidays,Learn
ATTACH;FMTTYPE=image/png:https://www.aspenjewish.org/wp-content/uploads/2025/08/8.png
END:VEVENT
BEGIN:VEVENT
DTSTART;TZID=America/Denver:20251002T130000
DTEND;TZID=America/Denver:20251002T153000
DTSTAMP:20260420T024038
CREATED:20250815T212051Z
LAST-MODIFIED:20250817T165804Z
UID:10000089-1759410000-1759419000@www.aspenjewish.org
SUMMARY:Lay-Led Afternoon Activities
DESCRIPTION:Spend Yom Kippur afternoon hiking\, singing\, learning\, or meditating. From the moment that yizkor ends until the start of Rabbi Shira’s text study\, AJC members will lead sessions to inspire the heart and spirit\, and to help the fast go…faster.
URL:https://www.aspenjewish.org/event/lay-led-afternoon-activities/
LOCATION:CO
CATEGORIES:High Holidays
ATTACH;FMTTYPE=image/png:https://www.aspenjewish.org/wp-content/uploads/2025/08/8.png
END:VEVENT
BEGIN:VEVENT
DTSTART;TZID=America/Denver:20251002T123000
DTEND;TZID=America/Denver:20251002T130000
DTSTAMP:20260420T024038
CREATED:20250815T211959Z
LAST-MODIFIED:20250815T211959Z
UID:10000088-1759408200-1759410000@www.aspenjewish.org
SUMMARY:Yizkor
DESCRIPTION:Special materials will be available for children who have suffered a loss.
URL:https://www.aspenjewish.org/event/yizkor/
LOCATION:Paepcke Auditorium\, 1000 N. Third St.\, Aspen\, CO\, 81611\, United States
CATEGORIES:High Holidays
ATTACH;FMTTYPE=image/png:https://www.aspenjewish.org/wp-content/uploads/2025/08/8.png
END:VEVENT
BEGIN:VEVENT
DTSTART;TZID=America/Denver:20251002T100000
DTEND;TZID=America/Denver:20251002T123000
DTSTAMP:20260420T024038
CREATED:20250815T211908Z
LAST-MODIFIED:20250817T165722Z
UID:10000087-1759399200-1759408200@www.aspenjewish.org
SUMMARY:Yom Kippur Morning Service
DESCRIPTION:Our morning service will be led by Rabbi Shira\, Chazzan Aden and musicians.
URL:https://www.aspenjewish.org/event/yom-kippur-morning-service/
LOCATION:Paepcke Auditorium\, 1000 N. Third St.\, Aspen\, CO\, 81611\, United States
CATEGORIES:High Holidays
ATTACH;FMTTYPE=image/png:https://www.aspenjewish.org/wp-content/uploads/2025/08/8.png
END:VEVENT
BEGIN:VEVENT
DTSTART;TZID=America/Denver:20251001T193000
DTEND;TZID=America/Denver:20251001T210000
DTSTAMP:20260420T024038
CREATED:20250815T211756Z
LAST-MODIFIED:20250817T165738Z
UID:10000086-1759347000-1759352400@www.aspenjewish.org
SUMMARY:Kol Nidre
DESCRIPTION:On this holiday of contemplation and happiness (yes\, happiness)\, we\, as individuals and a community\, will grow\, reach and connect. Services will be led by Rabbi Shira\, Chazzan Aden and musicians.
URL:https://www.aspenjewish.org/event/kol-nidre/
LOCATION:Paepcke Auditorium\, 1000 N. Third St.\, Aspen\, CO\, 81611\, United States
CATEGORIES:High Holidays
ATTACH;FMTTYPE=image/png:https://www.aspenjewish.org/wp-content/uploads/2025/08/8.png
END:VEVENT
BEGIN:VEVENT
DTSTART;TZID=America/Denver:20251001T170000
DTEND;TZID=America/Denver:20251001T180000
DTSTAMP:20260420T024038
CREATED:20250815T211426Z
LAST-MODIFIED:20250817T165817Z
UID:10000085-1759338000-1759341600@www.aspenjewish.org
SUMMARY:Yom Kippur Family Service
DESCRIPTION:Join Rabbi Sima and our musicians for a joyful\, participatory service led by our Hebrew School students. With songs\, prayers\, and spirit\, this service is open to all\, yet designed especially for elementary-aged children and their families.
URL:https://www.aspenjewish.org/event/yom-kippur-family-service/
LOCATION:Paepcke Auditorium\, 1000 N. Third St.\, Aspen\, CO\, 81611\, United States
CATEGORIES:High Holidays
ATTACH;FMTTYPE=image/png:https://www.aspenjewish.org/wp-content/uploads/2025/08/8.png
END:VEVENT
BEGIN:VEVENT
DTSTART;TZID=America/Denver:20250926T180000
DTEND;TZID=America/Denver:20250926T190000
DTSTAMP:20260420T024038
CREATED:20250814T214351Z
LAST-MODIFIED:20250817T165827Z
UID:10000071-1758909600-1758913200@www.aspenjewish.org
SUMMARY:Shabbat Teshuvah Evening Service
DESCRIPTION:Prepare body and spirit for Yom Kippur. Led by Rabbi Shira.
URL:https://www.aspenjewish.org/event/shabbat-teshuvah-evening-service/
LOCATION:Aspen Chapel\, 77 Meadowood Drive\, Aspen\, CO\, 81611\, United States
CATEGORIES:Shabbat
ATTACH;FMTTYPE=image/png:https://www.aspenjewish.org/wp-content/uploads/2025/08/11.png
END:VEVENT
BEGIN:VEVENT
DTSTART;TZID=America/Denver:20250924T114500
DTEND;TZID=America/Denver:20250924T130000
DTSTAMP:20260420T024038
CREATED:20250815T205705Z
LAST-MODIFIED:20250817T165836Z
UID:10000083-1758714300-1758718800@www.aspenjewish.org
SUMMARY:Rosh Hashanah Luncheon
DESCRIPTION:
URL:https://www.aspenjewish.org/event/rosh-hashanah-luncheon/
LOCATION:Anderson Park\, Aspen Meadows\, Aspen\, CO\, United States
CATEGORIES:High Holidays
ATTACH;FMTTYPE=image/png:https://www.aspenjewish.org/wp-content/uploads/2025/08/9.png
END:VEVENT
BEGIN:VEVENT
DTSTART;TZID=America/Denver:20250924T113000
DTEND;TZID=America/Denver:20250924T114500
DTSTAMP:20260420T024038
CREATED:20250815T205158Z
LAST-MODIFIED:20250817T165844Z
UID:10000082-1758713400-1758714300@www.aspenjewish.org
SUMMARY:Tashlich
DESCRIPTION:
URL:https://www.aspenjewish.org/event/tashlich/
LOCATION:Anderson Park\, Aspen Meadows\, Aspen\, CO\, United States
CATEGORIES:High Holidays
ATTACH;FMTTYPE=image/png:https://www.aspenjewish.org/wp-content/uploads/2025/08/9.png
END:VEVENT
BEGIN:VEVENT
DTSTART;TZID=America/Denver:20250924T110000
DTEND;TZID=America/Denver:20250924T113000
DTSTAMP:20260420T024038
CREATED:20250815T205054Z
LAST-MODIFIED:20250817T165853Z
UID:10000081-1758711600-1758713400@www.aspenjewish.org
SUMMARY:Tot Program
DESCRIPTION:Rabbi Sima and Rabbinic Student Lucy Brown will lead a fun tot service before joining the grown-ups for Tashlich and lunch.
URL:https://www.aspenjewish.org/event/tot-program-2/
LOCATION:Paepcke Auditorium\, 1000 N. Third St.\, Aspen\, CO\, 81611\, United States
CATEGORIES:High Holidays
ATTACH;FMTTYPE=image/png:https://www.aspenjewish.org/wp-content/uploads/2025/08/9.png
END:VEVENT
BEGIN:VEVENT
DTSTART;TZID=America/Denver:20250924T103000
DTEND;TZID=America/Denver:20250924T113000
DTSTAMP:20260420T024038
CREATED:20250815T204934Z
LAST-MODIFIED:20250815T204934Z
UID:10000080-1758709800-1758713400@www.aspenjewish.org
SUMMARY:Rosh Hashanah Morning Service
DESCRIPTION:Our alternative second-day service contains ancient and contemporary prayers\, secular poetry and music. Please bring camping chairs or a picnic blanket to sit on.
URL:https://www.aspenjewish.org/event/rosh-hashanah-morning-service-2/
LOCATION:Anderson Park\, Aspen Meadows\, Aspen\, CO\, United States
CATEGORIES:High Holidays
ATTACH;FMTTYPE=image/png:https://www.aspenjewish.org/wp-content/uploads/2025/08/9.png
END:VEVENT
BEGIN:VEVENT
DTSTART;TZID=America/Denver:20250923T180000
DTEND;TZID=America/Denver:20250923T190000
DTSTAMP:20260420T024038
CREATED:20250815T204732Z
LAST-MODIFIED:20250817T165902Z
UID:10000079-1758650400-1758654000@www.aspenjewish.org
SUMMARY:Rosh Hashanah Community Dinner
DESCRIPTION:
URL:https://www.aspenjewish.org/event/rosh-hashanah-community-dinner/
LOCATION:Third Street Center\, 520 S 3rd Street\, Carbondale\, CO\, 81623\, United States
CATEGORIES:Build Community,High Holidays
ATTACH;FMTTYPE=image/png:https://www.aspenjewish.org/wp-content/uploads/2025/08/9.png
END:VEVENT
BEGIN:VEVENT
DTSTART;TZID=America/Denver:20250923T173000
DTEND;TZID=America/Denver:20250923T180000
DTSTAMP:20260420T024038
CREATED:20250815T204637Z
LAST-MODIFIED:20250817T165910Z
UID:10000078-1758648600-1758650400@www.aspenjewish.org
SUMMARY:Tot Program
DESCRIPTION:Rabbi Sima and Rabbinic Student Lucy Brown will lead a fun tot service concurrently to the sermon portion of the main service.
URL:https://www.aspenjewish.org/event/tot-program/
LOCATION:Third Street Center\, 520 S 3rd Street\, Carbondale\, CO\, 81623\, United States
CATEGORIES:High Holidays
ATTACH;FMTTYPE=image/png:https://www.aspenjewish.org/wp-content/uploads/2025/08/9.png
END:VEVENT
BEGIN:VEVENT
DTSTART;TZID=America/Denver:20250923T170000
DTEND;TZID=America/Denver:20250923T180000
DTSTAMP:20260420T024038
CREATED:20250815T204533Z
LAST-MODIFIED:20250817T165919Z
UID:10000077-1758646800-1758650400@www.aspenjewish.org
SUMMARY:Intergenerational Rosh Hashanah Afternoon Service
DESCRIPTION:Everyone is welcome at this intergenerational\, shortened Rosh Hashanah service. Our musicians will play and sing\, Rabbi Shira will repeat her morning sermon\, and we will all celebrate.
URL:https://www.aspenjewish.org/event/intergenerational-rosh-hashanah-afternoon-service/
LOCATION:Third Street Center\, 520 S 3rd Street\, Carbondale\, CO\, 81623\, United States
CATEGORIES:High Holidays
ATTACH;FMTTYPE=image/png:https://www.aspenjewish.org/wp-content/uploads/2025/08/9.png
END:VEVENT
BEGIN:VEVENT
DTSTART;TZID=America/Denver:20250923T100000
DTEND;TZID=America/Denver:20250923T130000
DTSTAMP:20260420T024038
CREATED:20250815T204311Z
LAST-MODIFIED:20250817T165929Z
UID:10000076-1758621600-1758632400@www.aspenjewish.org
SUMMARY:Rosh Hashanah Morning Service
DESCRIPTION:Rosh Hashanah services continue with Rabbi Shira\, Chazzan Aden and musicians. Our morning service will include Shofar and Torah reading.
URL:https://www.aspenjewish.org/event/rosh-hashanah-morning-service/
LOCATION:Paepcke Auditorium\, 1000 N. Third St.\, Aspen\, CO\, 81611\, United States
CATEGORIES:High Holidays
ATTACH;FMTTYPE=image/png:https://www.aspenjewish.org/wp-content/uploads/2025/08/9.png
END:VEVENT
BEGIN:VEVENT
DTSTART;TZID=America/Denver:20250922T193000
DTEND;TZID=America/Denver:20250922T210000
DTSTAMP:20260420T024038
CREATED:20250815T204129Z
LAST-MODIFIED:20250817T165938Z
UID:10000075-1758569400-1758574800@www.aspenjewish.org
SUMMARY:Rosh Hashanah Evening Service
DESCRIPTION:Welcome the new year with music\, reflection and joy. Services will be led by Rabbi Shira\, Chazzan Aden and musicians.
URL:https://www.aspenjewish.org/event/rosh-hashanah-evening-service/
LOCATION:Paepcke Auditorium\, 1000 N. Third St.\, Aspen\, CO\, 81611\, United States
CATEGORIES:High Holidays
ATTACH;FMTTYPE=image/png:https://www.aspenjewish.org/wp-content/uploads/2025/08/9.png
END:VEVENT
BEGIN:VEVENT
DTSTART;TZID=America/Denver:20250922T170000
DTEND;TZID=America/Denver:20250922T180000
DTSTAMP:20260420T024038
CREATED:20250921T170829Z
LAST-MODIFIED:20250921T170829Z
UID:10000099-1758560400-1758564000@www.aspenjewish.org
SUMMARY:Rosh Hashanah Family Service
DESCRIPTION:Welcome the new year with music\, reflection and joy. Services will be led by Rabbi Sima\, Chazzan Aden and musicians.
URL:https://www.aspenjewish.org/event/rosh-hashanah-family-service-2/
LOCATION:Paepcke Auditorium\, 1000 N. Third St.\, Aspen\, CO\, 81611\, United States
CATEGORIES:High Holidays
ATTACH;FMTTYPE=image/png:https://www.aspenjewish.org/wp-content/uploads/2025/08/9.png
END:VEVENT
BEGIN:VEVENT
DTSTART;TZID=America/Denver:20250919T180000
DTEND;TZID=America/Denver:20250919T190000
DTSTAMP:20260420T024038
CREATED:20250814T214124Z
LAST-MODIFIED:20251223T192911Z
UID:10000066-1758304800-1758308400@www.aspenjewish.org
SUMMARY:Shabbat Evening Service
DESCRIPTION:Join us for Shabbat every Friday night with uplifting music\, inspiring prayer\, and the warmth of community. Stay after to connect with friends over refreshments.
URL:https://www.aspenjewish.org/event/shabbat-evening-service-8/2025-09-19/
LOCATION:Aspen Chapel\, 77 Meadowood Drive\, Aspen\, CO\, 81611\, United States
CATEGORIES:Shabbat
ATTACH;FMTTYPE=image/png:https://www.aspenjewish.org/wp-content/uploads/2025/08/11.png
END:VEVENT
BEGIN:VEVENT
DTSTART;TZID=America/Denver:20250919T164500
DTEND;TZID=America/Denver:20250919T174500
DTSTAMP:20260420T024038
CREATED:20250814T220913Z
LAST-MODIFIED:20250817T165951Z
UID:10000073-1758300300-1758303900@www.aspenjewish.org
SUMMARY:Cocktails & Conversation with Rabbi Shereen Sarick
DESCRIPTION:Join us for Elul-themed Cocktails & Conversation and enjoy thoughtful discussion and reflection.
URL:https://www.aspenjewish.org/event/cocktails-conversation-with-rabbi-shereen-sarick/
LOCATION:Aspen Chapel Gallery\, 77 Meadowood Drive\, Aspen\, CO\, 81611\, United States
CATEGORIES:High Holidays,Learn
ATTACH;FMTTYPE=image/jpeg:https://www.aspenjewish.org/wp-content/uploads/2025/06/cocktails-and-conversation.jpg
END:VEVENT
BEGIN:VEVENT
DTSTART;TZID=America/Denver:20250916T103000
DTEND;TZID=America/Denver:20250916T110000
DTSTAMP:20260420T024038
CREATED:20250815T210655Z
LAST-MODIFIED:20250903T230655Z
UID:10000084-1758018600-1758020400@www.aspenjewish.org
SUMMARY:Storytime at PitCo Library
DESCRIPTION:Join Rabbi Sima at the Pitkin County Library for a joyful Rosh Hashanah storytime! We’ll welcome the Jewish New Year with stories and sweetness to help us get ready for a fresh start. Perfect for young children and their grown-ups.
URL:https://www.aspenjewish.org/event/storytime-at-pitco-library/
LOCATION:Pitkin County Library\, 120 N. Mill St.\, Aspen\, CO\, 81611\, United States
CATEGORIES:High Holidays
ATTACH;FMTTYPE=image/png:https://www.aspenjewish.org/wp-content/uploads/2025/08/12.png
END:VEVENT
BEGIN:VEVENT
DTSTART;TZID=America/Denver:20250912T180000
DTEND;TZID=America/Denver:20250912T190000
DTSTAMP:20260420T024038
CREATED:20250814T214124Z
LAST-MODIFIED:20251223T192911Z
UID:10000065-1757700000-1757703600@www.aspenjewish.org
SUMMARY:Shabbat Evening Service
DESCRIPTION:Join us for Shabbat every Friday night with uplifting music\, inspiring prayer\, and the warmth of community. Stay after to connect with friends over refreshments.
URL:https://www.aspenjewish.org/event/shabbat-evening-service-8/2025-09-12/
LOCATION:Aspen Chapel\, 77 Meadowood Drive\, Aspen\, CO\, 81611\, United States
CATEGORIES:Shabbat
ATTACH;FMTTYPE=image/png:https://www.aspenjewish.org/wp-content/uploads/2025/08/11.png
END:VEVENT
BEGIN:VEVENT
DTSTART;TZID=America/Denver:20250912T164500
DTEND;TZID=America/Denver:20250912T174500
DTSTAMP:20260420T024038
CREATED:20250814T215138Z
LAST-MODIFIED:20250817T170021Z
UID:10000072-1757695500-1757699100@www.aspenjewish.org
SUMMARY:Cocktails & Conversation with Rabbi Mendel Mintz
DESCRIPTION:Join us for Elul-themed Cocktails & Conversation and enjoy thoughtful discussion and reflection.
URL:https://www.aspenjewish.org/event/cocktails-conversation-with-rabbi-mendel-mintz/
LOCATION:Aspen Chapel Gallery\, 77 Meadowood Drive\, Aspen\, CO\, 81611\, United States
CATEGORIES:High Holidays,Learn
ATTACH;FMTTYPE=image/jpeg:https://www.aspenjewish.org/wp-content/uploads/2025/06/cocktails-and-conversation.jpg
END:VEVENT
BEGIN:VEVENT
DTSTART;TZID=America/Denver:20250905T180000
DTEND;TZID=America/Denver:20250905T190000
DTSTAMP:20260420T024038
CREATED:20250814T214124Z
LAST-MODIFIED:20251223T192911Z
UID:10000064-1757095200-1757098800@www.aspenjewish.org
SUMMARY:Shabbat Evening Service
DESCRIPTION:Join us for Shabbat every Friday night with uplifting music\, inspiring prayer\, and the warmth of community. Stay after to connect with friends over refreshments.
URL:https://www.aspenjewish.org/event/shabbat-evening-service-8/2025-09-05/
LOCATION:Aspen Chapel\, 77 Meadowood Drive\, Aspen\, CO\, 81611\, United States
CATEGORIES:Shabbat
ATTACH;FMTTYPE=image/png:https://www.aspenjewish.org/wp-content/uploads/2025/08/11.png
END:VEVENT
BEGIN:VEVENT
DTSTART;TZID=America/Denver:20250905T164500
DTEND;TZID=America/Denver:20250905T174500
DTSTAMP:20260420T024038
CREATED:20250814T210020Z
LAST-MODIFIED:20250817T170036Z
UID:10000062-1757090700-1757094300@www.aspenjewish.org
SUMMARY:Cocktails & Conversation with Rabbinic Intern Jen Moses
DESCRIPTION:Join us for Elul-themed Cocktails & Conversation and enjoy thoughtful discussion and reflection.
URL:https://www.aspenjewish.org/event/cocktails-conversation-with-rabbinic-intern-jen-moses/
LOCATION:Aspen Chapel Gallery\, 77 Meadowood Drive\, Aspen\, CO\, 81611\, United States
CATEGORIES:High Holidays,Learn
ATTACH;FMTTYPE=image/jpeg:https://www.aspenjewish.org/wp-content/uploads/2025/06/cocktails-and-conversation.jpg
END:VEVENT
BEGIN:VEVENT
DTSTART;TZID=America/Denver:20250903T100000
DTEND;TZID=America/Denver:20250903T123000
DTSTAMP:20260420T024038
CREATED:20250828T232401Z
LAST-MODIFIED:20250829T163251Z
UID:10000098-1756893600-1756902600@www.aspenjewish.org
SUMMARY:Apple Gleaning with Uproot Colorado
DESCRIPTION:As we ready our apples and honey for a sweet new year\, join us in the orchard with Uproot Colorado for a morning of apple gleaning – gathering fresh fruit that will be donated to local food pantries and community partners. Gleaning is an ancient Jewish practice – think of Ruth who gleaned in the fields to sustain herself and her family. This event is open to all ages\, with no prior experience required. \nRSVPs required\, click here.  \nUproot Colorado’s mission is to increase the nutrition security of Coloradans by harvesting and redistributing surplus nutrient-dense foods while supporting the resilience of farmers. Learn more about the organization here.
URL:https://www.aspenjewish.org/event/apple-gleaning-with-uproot-colorado/
LOCATION:Glenwood Springs
CATEGORIES:Build Community
ATTACH;FMTTYPE=image/png:https://www.aspenjewish.org/wp-content/uploads/2025/08/UprootLogo.png
END:VEVENT
BEGIN:VEVENT
DTSTART;TZID=America/Denver:20250829T180000
DTEND;TZID=America/Denver:20250829T180000
DTSTAMP:20260420T024038
CREATED:20250602T182107Z
LAST-MODIFIED:20250827T233846Z
UID:10000047-1756490400-1756490400@www.aspenjewish.org
SUMMARY:Shabbat Celebrating Rabbi Sima
DESCRIPTION:*Due to the high likelihood of adverse weather\, this Shabbat has been moved to the Third Street Center\, Carbondale* \n4:15 PM | Shofar Lesson with Michael Sailor \n4:45 PM | Cocktails & Conversations with Rabbi Sima \n6:00 PM | Shabbat service followed by dinner \nJoin us for a joyful Shabbat celebration honoring Rabbi Sima in her new role as Aspen Jewish Congregation Assistant Rabbi. \nRSVPs requested for dinner\, see below. \n 
URL:https://www.aspenjewish.org/event/shabbat-evening-service-dinner-honoring-rabbi-sima/
LOCATION:Third Street Center\, 520 S 3rd Street\, Carbondale\, CO\, 81623\, United States
CATEGORIES:Shabbat
ATTACH;FMTTYPE=image/jpeg:https://www.aspenjewish.org/wp-content/uploads/2025/06/Shabbat_at_CampBashert.jpg
END:VEVENT
BEGIN:VEVENT
DTSTART;TZID=America/Denver:20250829T161500
DTEND;TZID=America/Denver:20250829T164500
DTSTAMP:20260420T024038
CREATED:20250814T221600Z
LAST-MODIFIED:20250827T230947Z
UID:10000074-1756484100-1756485900@www.aspenjewish.org
SUMMARY:Shofar Lesson with Michael Sailor
DESCRIPTION:Join us to learn and/or practice how to sound the shofar in preparation for the High Holidays. No previous experience required. Shofars provided.
URL:https://www.aspenjewish.org/event/shofar-lesson-with-michael-sailor/
LOCATION:Third Street Center\, 520 S 3rd Street\, Carbondale\, CO\, 81623\, United States
CATEGORIES:High Holidays,Learn
ATTACH;FMTTYPE=image/png:https://www.aspenjewish.org/wp-content/uploads/2025/08/6.png
END:VEVENT
BEGIN:VEVENT
DTSTART;TZID=America/Denver:20250823T163000
DTEND;TZID=America/Denver:20250823T163000
DTSTAMP:20260420T024038
CREATED:20250602T181949Z
LAST-MODIFIED:20250626T122411Z
UID:10000044-1755966600-1755966600@www.aspenjewish.org
SUMMARY:Shabbat Sings
DESCRIPTION:Shabbat Sings is a playdate at the park with songs\, stories\, and a kid-friendly dinner. Rabbi Sima and musicians will lead this feel-good celebration of Shabbat and the weekend. All ages welcome\, although designed for children ages 2-8 and their families. \nRSVPs required\, email Rabbi Sima. Location will be provided upon RSVP.
URL:https://www.aspenjewish.org/event/shabbat-sings/
LOCATION:Aspen Location
CATEGORIES:Shabbat
ATTACH;FMTTYPE=image/jpeg:https://www.aspenjewish.org/wp-content/uploads/2025/06/ShabbatSings.jpg
END:VEVENT
BEGIN:VEVENT
DTSTART;TZID=America/Denver:20250823T103000
DTEND;TZID=America/Denver:20250823T103000
DTSTAMP:20260420T024038
CREATED:20250602T181929Z
LAST-MODIFIED:20250626T122411Z
UID:10000043-1755945000-1755945000@www.aspenjewish.org
SUMMARY:Ajax Shabbat Morning Service
DESCRIPTION:Hike up Ajax or take the gondola for a short morning service and time with friends old and new. We’ll have a light breakfast for you and for Fido. BYO camp chair or blanket.
URL:https://www.aspenjewish.org/event/ajax-shabbat-morning-service-3/
LOCATION:Aspen Mountain Concert Meadow\, 601 East Dean Street\, Aspen\, CO\, 81611\, United States
CATEGORIES:Shabbat
ATTACH;FMTTYPE=image/jpeg:https://www.aspenjewish.org/wp-content/uploads/2025/06/ShabbatMornings_on_Ajax.jpg
END:VEVENT
END:VCALENDAR