BEGIN:VCALENDAR
VERSION:2.0
PRODID:-//Aspen Jewish Congregation - ECPv6.15.20//NONSGML v1.0//EN
CALSCALE:GREGORIAN
METHOD:PUBLISH
X-WR-CALNAME:Aspen Jewish Congregation
X-ORIGINAL-URL:https://www.aspenjewish.org
X-WR-CALDESC:Events for Aspen Jewish Congregation
REFRESH-INTERVAL;VALUE=DURATION:PT1H
X-Robots-Tag:noindex
X-PUBLISHED-TTL:PT1H
BEGIN:VTIMEZONE
TZID:America/Denver
BEGIN:DAYLIGHT
TZOFFSETFROM:-0700
TZOFFSETTO:-0600
TZNAME:MDT
DTSTART:20250309T090000
END:DAYLIGHT
BEGIN:STANDARD
TZOFFSETFROM:-0600
TZOFFSETTO:-0700
TZNAME:MST
DTSTART:20251102T080000
END:STANDARD
BEGIN:DAYLIGHT
TZOFFSETFROM:-0700
TZOFFSETTO:-0600
TZNAME:MDT
DTSTART:20260308T090000
END:DAYLIGHT
BEGIN:STANDARD
TZOFFSETFROM:-0600
TZOFFSETTO:-0700
TZNAME:MST
DTSTART:20261101T080000
END:STANDARD
BEGIN:DAYLIGHT
TZOFFSETFROM:-0700
TZOFFSETTO:-0600
TZNAME:MDT
DTSTART:20270314T090000
END:DAYLIGHT
BEGIN:STANDARD
TZOFFSETFROM:-0600
TZOFFSETTO:-0700
TZNAME:MST
DTSTART:20271107T080000
END:STANDARD
END:VTIMEZONE
BEGIN:VEVENT
DTSTART;TZID=America/Denver:20260218T100000
DTEND;TZID=America/Denver:20260218T113000
DTSTAMP:20260420T001340
CREATED:20251114T200102Z
LAST-MODIFIED:20251230T233107Z
UID:10000193-1771408800-1771414200@www.aspenjewish.org
SUMMARY:Bibs & Burps
DESCRIPTION:Supporting Moms & Babies in the Roaring Fork Valley \nAspen Bibs & Burps is a 6-week program for moms and their little ones designed to educate\, support\, and honor each participant as we play and learn together. Our sessions will include time to socialize\, engage with our babies\, and learn from guest experts in the fields of postpartum care\, pediatrics\, mental health\, and more. \nExpert Talks \nExperts are volunteering their time from across the valley to support new moms and answer questions. \nCommunity Support \nMeet other moms in the RFV and begin forming lasting friendships during this 6-week program. \nThis program is hosted by the Aspen Jewish Congregation and is open to everyone. \nTo sign up\, please email Rabbi Sima.
URL:https://www.aspenjewish.org/event/bibs-burps/2026-02-18/
LOCATION:Aspen Chapel Gallery\, 77 Meadowood Drive\, Aspen\, CO\, 81611\, United States
CATEGORIES:Build Community,Learn
ATTACH;FMTTYPE=image/png:https://www.aspenjewish.org/wp-content/uploads/2025/11/Bibs-Burps-2026-header.png
END:VEVENT
BEGIN:VEVENT
DTSTART;TZID=America/Denver:20260213T180000
DTEND;TZID=America/Denver:20260213T190000
DTSTAMP:20260420T001340
CREATED:20250814T214124Z
LAST-MODIFIED:20251223T192911Z
UID:10000444-1771005600-1771009200@www.aspenjewish.org
SUMMARY:Shabbat Evening Service
DESCRIPTION:Join us for Shabbat every Friday night with uplifting music\, inspiring prayer\, and the warmth of community. Stay after to connect with friends over refreshments.
URL:https://www.aspenjewish.org/event/shabbat-evening-service-8/2026-02-13/
LOCATION:Aspen Chapel\, 77 Meadowood Drive\, Aspen\, CO\, 81611\, United States
CATEGORIES:Shabbat
ATTACH;FMTTYPE=image/png:https://www.aspenjewish.org/wp-content/uploads/2025/08/11.png
END:VEVENT
BEGIN:VEVENT
DTSTART;TZID=America/Denver:20260213T164500
DTEND;TZID=America/Denver:20260213T174500
DTSTAMP:20260420T001341
CREATED:20251219T193224Z
LAST-MODIFIED:20260129T003430Z
UID:10000424-1771001100-1771004700@www.aspenjewish.org
SUMMARY:Cocktails & Conversation
DESCRIPTION:Join us for food\, drink\, and a fun\, substantive\, and reflective conversation before Shabbat services.
URL:https://www.aspenjewish.org/event/cocktails-conversation/2026-02-13/
LOCATION:Aspen Chapel Gallery\, 77 Meadowood Drive\, Aspen\, CO\, 81611\, United States
CATEGORIES:Learn
ATTACH;FMTTYPE=image/jpeg:https://www.aspenjewish.org/wp-content/uploads/2025/06/cocktails-and-conversation.jpg
END:VEVENT
BEGIN:VEVENT
DTSTART;VALUE=DATE:20260213
DTEND;VALUE=DATE:20260214
DTSTAMP:20260420T001341
CREATED:20251229T204350Z
LAST-MODIFIED:20260107T171116Z
UID:10000478-1770940800-1771027199@www.aspenjewish.org
SUMMARY:Shabbat Across the RFV
DESCRIPTION:Shabbat Across the Roaring Fork Valley brings community together through intimate Shabbat dinners hosted in congregants’ homes from January 16–March 27. We are inviting community members to open their homes and help create meaningful moments of connection around the Shabbat table. \nIf you are interested in hosting\, click here to learn more and sign up. \nIf you are interested in being a guest\, click here.
URL:https://www.aspenjewish.org/event/shabbat-across-the-roaring-fork-valley/2026-02-13/
LOCATION:Home Hosted
CATEGORIES:Build Community,Shabbat
ATTACH;FMTTYPE=image/png:https://www.aspenjewish.org/wp-content/uploads/2025/12/Shabbat-Across-RFV-headerv2.png
END:VEVENT
BEGIN:VEVENT
DTSTART;TZID=America/Denver:20260212T140000
DTEND;TZID=America/Denver:20260212T153000
DTSTAMP:20260420T001341
CREATED:20251211T181515Z
LAST-MODIFIED:20260226T190033Z
UID:10000346-1770904800-1770910200@www.aspenjewish.org
SUMMARY:Open Door Judaism
DESCRIPTION:Our 2026 cohort is underway\, to learn more about upcoming learning opportunities\, email our office.
URL:https://www.aspenjewish.org/event/open-door-judaism/2026-02-12/
LOCATION:Aspen Chapel Gallery\, 77 Meadowood Drive\, Aspen\, CO\, 81611\, United States
CATEGORIES:Learn
ATTACH;FMTTYPE=image/png:https://www.aspenjewish.org/wp-content/uploads/2025/12/Open-Door-header.png
END:VEVENT
BEGIN:VEVENT
DTSTART;TZID=America/Denver:20260211T100000
DTEND;TZID=America/Denver:20260211T113000
DTSTAMP:20260420T001341
CREATED:20251114T200102Z
LAST-MODIFIED:20251230T233107Z
UID:10000192-1770804000-1770809400@www.aspenjewish.org
SUMMARY:Bibs & Burps
DESCRIPTION:Supporting Moms & Babies in the Roaring Fork Valley \nAspen Bibs & Burps is a 6-week program for moms and their little ones designed to educate\, support\, and honor each participant as we play and learn together. Our sessions will include time to socialize\, engage with our babies\, and learn from guest experts in the fields of postpartum care\, pediatrics\, mental health\, and more. \nExpert Talks \nExperts are volunteering their time from across the valley to support new moms and answer questions. \nCommunity Support \nMeet other moms in the RFV and begin forming lasting friendships during this 6-week program. \nThis program is hosted by the Aspen Jewish Congregation and is open to everyone. \nTo sign up\, please email Rabbi Sima.
URL:https://www.aspenjewish.org/event/bibs-burps/2026-02-11/
LOCATION:Aspen Chapel Gallery\, 77 Meadowood Drive\, Aspen\, CO\, 81611\, United States
CATEGORIES:Build Community,Learn
ATTACH;FMTTYPE=image/png:https://www.aspenjewish.org/wp-content/uploads/2025/11/Bibs-Burps-2026-header.png
END:VEVENT
BEGIN:VEVENT
DTSTART;TZID=America/Denver:20260206T180000
DTEND;TZID=America/Denver:20260206T190000
DTSTAMP:20260420T001341
CREATED:20250814T214124Z
LAST-MODIFIED:20251223T192911Z
UID:10000443-1770400800-1770404400@www.aspenjewish.org
SUMMARY:Shabbat Evening Service
DESCRIPTION:Join us for Shabbat every Friday night with uplifting music\, inspiring prayer\, and the warmth of community. Stay after to connect with friends over refreshments.
URL:https://www.aspenjewish.org/event/shabbat-evening-service-8/2026-02-06/
LOCATION:Aspen Chapel\, 77 Meadowood Drive\, Aspen\, CO\, 81611\, United States
CATEGORIES:Shabbat
ATTACH;FMTTYPE=image/png:https://www.aspenjewish.org/wp-content/uploads/2025/08/11.png
END:VEVENT
BEGIN:VEVENT
DTSTART;VALUE=DATE:20260206
DTEND;VALUE=DATE:20260207
DTSTAMP:20260420T001341
CREATED:20251229T204350Z
LAST-MODIFIED:20260107T171116Z
UID:10000477-1770336000-1770422399@www.aspenjewish.org
SUMMARY:Shabbat Across the RFV
DESCRIPTION:Shabbat Across the Roaring Fork Valley brings community together through intimate Shabbat dinners hosted in congregants’ homes from January 16–March 27. We are inviting community members to open their homes and help create meaningful moments of connection around the Shabbat table. \nIf you are interested in hosting\, click here to learn more and sign up. \nIf you are interested in being a guest\, click here.
URL:https://www.aspenjewish.org/event/shabbat-across-the-roaring-fork-valley/2026-02-06/
LOCATION:Home Hosted
CATEGORIES:Build Community,Shabbat
ATTACH;FMTTYPE=image/png:https://www.aspenjewish.org/wp-content/uploads/2025/12/Shabbat-Across-RFV-headerv2.png
END:VEVENT
BEGIN:VEVENT
DTSTART;TZID=America/Denver:20260205T140000
DTEND;TZID=America/Denver:20260205T153000
DTSTAMP:20260420T001341
CREATED:20251211T181515Z
LAST-MODIFIED:20260226T190033Z
UID:10000345-1770300000-1770305400@www.aspenjewish.org
SUMMARY:Open Door Judaism
DESCRIPTION:Our 2026 cohort is underway\, to learn more about upcoming learning opportunities\, email our office.
URL:https://www.aspenjewish.org/event/open-door-judaism/2026-02-05/
LOCATION:Aspen Chapel Gallery\, 77 Meadowood Drive\, Aspen\, CO\, 81611\, United States
CATEGORIES:Learn
ATTACH;FMTTYPE=image/png:https://www.aspenjewish.org/wp-content/uploads/2025/12/Open-Door-header.png
END:VEVENT
BEGIN:VEVENT
DTSTART;TZID=America/Denver:20260204T100000
DTEND;TZID=America/Denver:20260204T113000
DTSTAMP:20260420T001341
CREATED:20251114T200102Z
LAST-MODIFIED:20251230T233107Z
UID:10000191-1770199200-1770204600@www.aspenjewish.org
SUMMARY:Bibs & Burps
DESCRIPTION:Supporting Moms & Babies in the Roaring Fork Valley \nAspen Bibs & Burps is a 6-week program for moms and their little ones designed to educate\, support\, and honor each participant as we play and learn together. Our sessions will include time to socialize\, engage with our babies\, and learn from guest experts in the fields of postpartum care\, pediatrics\, mental health\, and more. \nExpert Talks \nExperts are volunteering their time from across the valley to support new moms and answer questions. \nCommunity Support \nMeet other moms in the RFV and begin forming lasting friendships during this 6-week program. \nThis program is hosted by the Aspen Jewish Congregation and is open to everyone. \nTo sign up\, please email Rabbi Sima.
URL:https://www.aspenjewish.org/event/bibs-burps/2026-02-04/
LOCATION:Aspen Chapel Gallery\, 77 Meadowood Drive\, Aspen\, CO\, 81611\, United States
CATEGORIES:Build Community,Learn
ATTACH;FMTTYPE=image/png:https://www.aspenjewish.org/wp-content/uploads/2025/11/Bibs-Burps-2026-header.png
END:VEVENT
BEGIN:VEVENT
DTSTART;TZID=America/Denver:20260130T180000
DTEND;TZID=America/Denver:20260130T223000
DTSTAMP:20260420T001341
CREATED:20260121T211430Z
LAST-MODIFIED:20260121T211749Z
UID:10000488-1769796000-1769812200@www.aspenjewish.org
SUMMARY:Shabbat After Dark
DESCRIPTION:A Shabbat hangout for teens with dinner\, a movie\, arcades\, and friends. \nShabbat Dinner promptly at 6:30 pm. \n  \n\n\nHosted in Aspen by The Zilberman Family. \n\n\n\nAddress provided upon RSVP. \n\n\n\nTransportation from Carbondale available upon request.
URL:https://www.aspenjewish.org/event/shabbat-after-dark/
LOCATION:Hosted in Aspen
CATEGORIES:Build Community
ATTACH;FMTTYPE=image/png:https://www.aspenjewish.org/wp-content/uploads/2026/01/Shabbat-After-Dark-Header.png
END:VEVENT
BEGIN:VEVENT
DTSTART;TZID=America/Denver:20260130T180000
DTEND;TZID=America/Denver:20260130T190000
DTSTAMP:20260420T001341
CREATED:20251107T184803Z
LAST-MODIFIED:20251107T200918Z
UID:10000184-1769796000-1769799600@www.aspenjewish.org
SUMMARY:Shabbat Evening Service
DESCRIPTION:Join us for a Shabbat service led by Rabbi Sima and Aspen Hebrew School students.
URL:https://www.aspenjewish.org/event/shabbat-evening-service-10/
LOCATION:Aspen Chapel\, 77 Meadowood Drive\, Aspen\, CO\, 81611\, United States
CATEGORIES:Shabbat
ATTACH;FMTTYPE=image/jpeg:https://www.aspenjewish.org/wp-content/uploads/2025/10/AspenJewishCongregationOutdoorSermonGlenwoodSprings-68-scaled.jpg
END:VEVENT
BEGIN:VEVENT
DTSTART;TZID=America/Denver:20260130T171500
DTEND;TZID=America/Denver:20260130T180000
DTSTAMP:20260420T001341
CREATED:20251107T201259Z
LAST-MODIFIED:20251218T002721Z
UID:10000185-1769793300-1769796000@www.aspenjewish.org
SUMMARY:Shabbat Dinner
DESCRIPTION:Join us for dinner before Shabbat services.
URL:https://www.aspenjewish.org/event/shabbat-dinner/
LOCATION:Aspen Chapel\, 77 Meadowood Drive\, Aspen\, CO\, 81611\, United States
CATEGORIES:Build Community,Shabbat
ATTACH;FMTTYPE=image/png:https://www.aspenjewish.org/wp-content/uploads/2025/10/shabbat.png
END:VEVENT
BEGIN:VEVENT
DTSTART;TZID=America/Denver:20260130T153000
DTEND;TZID=America/Denver:20260130T180000
DTSTAMP:20260420T001341
CREATED:20251214T203331Z
LAST-MODIFIED:20260114T233928Z
UID:10000417-1769787000-1769796000@www.aspenjewish.org
SUMMARY:Friday Fun: Tu B'shvat (Jewish Earth Day) Celebration
DESCRIPTION:Make chocolate “dirt\,” plant seeds and bring nature indoors. \n  \n  \nAfternoon Schedule \n3:15 pm | Children depart from school (AES students walked over by program leaders) Snack upon arrival \n3:45 pm | Activities for Grades K-7 (Tots welcome with parent-guided activities) \n4:30 pm | Shabbat Sings (all ages welcome) \n5:15 pm| Family Dinner \n6:00 pm | AJC Shabbat Services \nCome when you can\, leave when you have to.
URL:https://www.aspenjewish.org/event/tu-bshvat-celebration/
LOCATION:Aspen Chapel\, 77 Meadowood Drive\, Aspen\, CO\, 81611\, United States
CATEGORIES:Shabbat
ATTACH;FMTTYPE=image/png:https://www.aspenjewish.org/wp-content/uploads/2025/12/Friday-Fun-Headers.png
END:VEVENT
BEGIN:VEVENT
DTSTART;VALUE=DATE:20260130
DTEND;VALUE=DATE:20260131
DTSTAMP:20260420T001341
CREATED:20251229T204350Z
LAST-MODIFIED:20260107T171116Z
UID:10000476-1769731200-1769817599@www.aspenjewish.org
SUMMARY:Shabbat Across the RFV
DESCRIPTION:Shabbat Across the Roaring Fork Valley brings community together through intimate Shabbat dinners hosted in congregants’ homes from January 16–March 27. We are inviting community members to open their homes and help create meaningful moments of connection around the Shabbat table. \nIf you are interested in hosting\, click here to learn more and sign up. \nIf you are interested in being a guest\, click here.
URL:https://www.aspenjewish.org/event/shabbat-across-the-roaring-fork-valley/2026-01-30/
LOCATION:Home Hosted
CATEGORIES:Build Community,Shabbat
ATTACH;FMTTYPE=image/png:https://www.aspenjewish.org/wp-content/uploads/2025/12/Shabbat-Across-RFV-headerv2.png
END:VEVENT
BEGIN:VEVENT
DTSTART;TZID=America/Denver:20260129T140000
DTEND;TZID=America/Denver:20260129T153000
DTSTAMP:20260420T001341
CREATED:20251211T181515Z
LAST-MODIFIED:20260226T190033Z
UID:10000344-1769695200-1769700600@www.aspenjewish.org
SUMMARY:Open Door Judaism
DESCRIPTION:Our 2026 cohort is underway\, to learn more about upcoming learning opportunities\, email our office.
URL:https://www.aspenjewish.org/event/open-door-judaism/2026-01-29/
LOCATION:Aspen Chapel Gallery\, 77 Meadowood Drive\, Aspen\, CO\, 81611\, United States
CATEGORIES:Learn
ATTACH;FMTTYPE=image/png:https://www.aspenjewish.org/wp-content/uploads/2025/12/Open-Door-header.png
END:VEVENT
BEGIN:VEVENT
DTSTART;TZID=America/Denver:20260128T190000
DTEND;TZID=America/Denver:20260128T210000
DTSTAMP:20260420T001341
CREATED:20251222T220845Z
LAST-MODIFIED:20260223T204418Z
UID:10000431-1769626800-1769634000@www.aspenjewish.org
SUMMARY:Teen Giving Circle
DESCRIPTION:In collaboration with the Aspen Community Foundation\, teens explore philanthropy\, identify local needs\, and take action — raising and allocating funds to causes they care about. \nContact Rabbi Sima for more information.
URL:https://www.aspenjewish.org/event/teen-giving-circle/2026-01-28/
LOCATION:Aspen Chapel\, 77 Meadowood Drive\, Aspen\, CO\, 81611\, United States
CATEGORIES:Build Community
ATTACH;FMTTYPE=image/jpeg:https://www.aspenjewish.org/wp-content/uploads/2025/06/teens-1.jpg
END:VEVENT
BEGIN:VEVENT
DTSTART;TZID=America/Denver:20260128T100000
DTEND;TZID=America/Denver:20260128T113000
DTSTAMP:20260420T001341
CREATED:20251114T200102Z
LAST-MODIFIED:20251230T233107Z
UID:10000190-1769594400-1769599800@www.aspenjewish.org
SUMMARY:Bibs & Burps
DESCRIPTION:Supporting Moms & Babies in the Roaring Fork Valley \nAspen Bibs & Burps is a 6-week program for moms and their little ones designed to educate\, support\, and honor each participant as we play and learn together. Our sessions will include time to socialize\, engage with our babies\, and learn from guest experts in the fields of postpartum care\, pediatrics\, mental health\, and more. \nExpert Talks \nExperts are volunteering their time from across the valley to support new moms and answer questions. \nCommunity Support \nMeet other moms in the RFV and begin forming lasting friendships during this 6-week program. \nThis program is hosted by the Aspen Jewish Congregation and is open to everyone. \nTo sign up\, please email Rabbi Sima.
URL:https://www.aspenjewish.org/event/bibs-burps/2026-01-28/
LOCATION:Aspen Chapel Gallery\, 77 Meadowood Drive\, Aspen\, CO\, 81611\, United States
CATEGORIES:Build Community,Learn
ATTACH;FMTTYPE=image/png:https://www.aspenjewish.org/wp-content/uploads/2025/11/Bibs-Burps-2026-header.png
END:VEVENT
BEGIN:VEVENT
DTSTART;TZID=America/Denver:20260123T183000
DTEND;TZID=America/Denver:20260123T183000
DTSTAMP:20260420T001341
CREATED:20251125T171417Z
LAST-MODIFIED:20251125T171417Z
UID:10000204-1769193000-1769193000@www.aspenjewish.org
SUMMARY:YJC Shabbat Dinner
DESCRIPTION:Another month\, another excuse to gather! Join us for a cozy Shabbat dinner with great people\, good food\, and that perfect end-of-week exhale. \nHosted by Alexis Rosenthal & Stuart Gillespie in Elk Run\, Basalt. 
URL:https://www.aspenjewish.org/event/yjc-shabbat-dinner/
LOCATION:Hosted In Basalt
CATEGORIES:Build Community,Shabbat
ATTACH;FMTTYPE=image/png:https://www.aspenjewish.org/wp-content/uploads/2025/11/yjc-january-header.png
END:VEVENT
BEGIN:VEVENT
DTSTART;TZID=America/Denver:20260123T180000
DTEND;TZID=America/Denver:20260123T200000
DTSTAMP:20260420T001341
CREATED:20251107T202009Z
LAST-MODIFIED:20251226T183323Z
UID:10000183-1769191200-1769198400@www.aspenjewish.org
SUMMARY:Carbondale Shabbat & Dinner
DESCRIPTION:Welcome Shabbat in Carbondale. Following services\, join us for a community dinner.
URL:https://www.aspenjewish.org/event/shabbat-evening-service-12/
LOCATION:Third Street Center\, 520 S 3rd Street\, Carbondale\, CO\, 81623\, United States
CATEGORIES:Shabbat
ATTACH;FMTTYPE=image/png:https://www.aspenjewish.org/wp-content/uploads/2025/11/Carbondale-Shabbat-header-1.png
END:VEVENT
BEGIN:VEVENT
DTSTART;TZID=America/Denver:20260123T180000
DTEND;TZID=America/Denver:20260123T180000
DTSTAMP:20260420T001341
CREATED:20251223T000257Z
LAST-MODIFIED:20260107T220358Z
UID:10000459-1769191200-1769191200@www.aspenjewish.org
SUMMARY:Lay-Led Shabbat Service
DESCRIPTION:Join us for Shabbat services led by Rabbi Shereen Sarick and musician Liat Arochas.
URL:https://www.aspenjewish.org/event/lay-led-shabbat-service/
LOCATION:Aspen Chapel\, 77 Meadowood Drive\, Aspen\, CO\, 81611\, United States
CATEGORIES:Shabbat
ATTACH;FMTTYPE=image/png:https://www.aspenjewish.org/wp-content/uploads/2025/08/11.png
END:VEVENT
BEGIN:VEVENT
DTSTART;TZID=America/Denver:20260123T164500
DTEND;TZID=America/Denver:20260123T174500
DTSTAMP:20260420T001341
CREATED:20251223T215115Z
LAST-MODIFIED:20251223T215115Z
UID:10000462-1769186700-1769190300@www.aspenjewish.org
SUMMARY:Cocktails & Conversation
DESCRIPTION:Join us for food\, drink\, and a fun\, substantive\, and reflective rabbi-led conversation before Shabbat services.
URL:https://www.aspenjewish.org/event/cocktails-conversation-3/
LOCATION:Third Street Center\, 520 S 3rd Street\, Carbondale\, CO\, 81623\, United States
CATEGORIES:Learn
ATTACH;FMTTYPE=image/jpeg:https://www.aspenjewish.org/wp-content/uploads/2025/06/cocktails-and-conversation.jpg
END:VEVENT
BEGIN:VEVENT
DTSTART;TZID=America/Denver:20260123T153000
DTEND;TZID=America/Denver:20260123T180000
DTSTAMP:20260420T001341
CREATED:20251214T203024Z
LAST-MODIFIED:20260121T230810Z
UID:10000416-1769182200-1769191200@www.aspenjewish.org
SUMMARY:POSTPONED: Friday Fun: Games! Games! Mischakim!
DESCRIPTION:Come play indoors/outdoors\, cerebral/silly\, active/relaxed. Whatever you are in the mood for\, or try them all! \n  \n  \nAfternoon Schedule \n3:15 pm | Children depart from school (AES students walked over by program leaders) Snack upon arrival \n3:45 pm | Activities for Grades K-7 (Tots welcome with parent-guided activities) \n4:30 pm | Shabbat Sings (all ages welcome) \n5:15 pm| Family Dinner \n6:00 pm | AJC Shabbat Services \nCome when you can\, leave when you have to.
URL:https://www.aspenjewish.org/event/friday-fun-games-games-mischakim/
LOCATION:Aspen Chapel\, 77 Meadowood Drive\, Aspen\, CO\, 81611\, United States
CATEGORIES:Shabbat
ATTACH;FMTTYPE=image/png:https://www.aspenjewish.org/wp-content/uploads/2025/12/Friday-Fun-Headers.png
END:VEVENT
BEGIN:VEVENT
DTSTART;VALUE=DATE:20260123
DTEND;VALUE=DATE:20260124
DTSTAMP:20260420T001341
CREATED:20251229T204350Z
LAST-MODIFIED:20260107T171116Z
UID:10000475-1769126400-1769212799@www.aspenjewish.org
SUMMARY:Shabbat Across the RFV
DESCRIPTION:Shabbat Across the Roaring Fork Valley brings community together through intimate Shabbat dinners hosted in congregants’ homes from January 16–March 27. We are inviting community members to open their homes and help create meaningful moments of connection around the Shabbat table. \nIf you are interested in hosting\, click here to learn more and sign up. \nIf you are interested in being a guest\, click here.
URL:https://www.aspenjewish.org/event/shabbat-across-the-roaring-fork-valley/2026-01-23/
LOCATION:Home Hosted
CATEGORIES:Build Community,Shabbat
ATTACH;FMTTYPE=image/png:https://www.aspenjewish.org/wp-content/uploads/2025/12/Shabbat-Across-RFV-headerv2.png
END:VEVENT
BEGIN:VEVENT
DTSTART;TZID=America/Denver:20260122T140000
DTEND;TZID=America/Denver:20260122T153000
DTSTAMP:20260420T001341
CREATED:20251211T181515Z
LAST-MODIFIED:20260226T190033Z
UID:10000343-1769090400-1769095800@www.aspenjewish.org
SUMMARY:Open Door Judaism
DESCRIPTION:Our 2026 cohort is underway\, to learn more about upcoming learning opportunities\, email our office.
URL:https://www.aspenjewish.org/event/open-door-judaism/2026-01-22/
LOCATION:Aspen Chapel Gallery\, 77 Meadowood Drive\, Aspen\, CO\, 81611\, United States
CATEGORIES:Learn
ATTACH;FMTTYPE=image/png:https://www.aspenjewish.org/wp-content/uploads/2025/12/Open-Door-header.png
END:VEVENT
BEGIN:VEVENT
DTSTART;TZID=America/Denver:20260121T100000
DTEND;TZID=America/Denver:20260121T113000
DTSTAMP:20260420T001341
CREATED:20251114T200102Z
LAST-MODIFIED:20251230T233107Z
UID:10000189-1768989600-1768995000@www.aspenjewish.org
SUMMARY:Bibs & Burps
DESCRIPTION:Supporting Moms & Babies in the Roaring Fork Valley \nAspen Bibs & Burps is a 6-week program for moms and their little ones designed to educate\, support\, and honor each participant as we play and learn together. Our sessions will include time to socialize\, engage with our babies\, and learn from guest experts in the fields of postpartum care\, pediatrics\, mental health\, and more. \nExpert Talks \nExperts are volunteering their time from across the valley to support new moms and answer questions. \nCommunity Support \nMeet other moms in the RFV and begin forming lasting friendships during this 6-week program. \nThis program is hosted by the Aspen Jewish Congregation and is open to everyone. \nTo sign up\, please email Rabbi Sima.
URL:https://www.aspenjewish.org/event/bibs-burps/2026-01-21/
LOCATION:Aspen Chapel Gallery\, 77 Meadowood Drive\, Aspen\, CO\, 81611\, United States
CATEGORIES:Build Community,Learn
ATTACH;FMTTYPE=image/png:https://www.aspenjewish.org/wp-content/uploads/2025/11/Bibs-Burps-2026-header.png
END:VEVENT
BEGIN:VEVENT
DTSTART;TZID=America/Denver:20260116T180000
DTEND;TZID=America/Denver:20260116T190000
DTSTAMP:20260420T001341
CREATED:20250814T214124Z
LAST-MODIFIED:20251223T192911Z
UID:10000182-1768586400-1768590000@www.aspenjewish.org
SUMMARY:Shabbat Evening Service
DESCRIPTION:Join us for Shabbat every Friday night with uplifting music\, inspiring prayer\, and the warmth of community. Stay after to connect with friends over refreshments.
URL:https://www.aspenjewish.org/event/shabbat-evening-service-8/2026-01-16/
LOCATION:Aspen Chapel\, 77 Meadowood Drive\, Aspen\, CO\, 81611\, United States
CATEGORIES:Shabbat
ATTACH;FMTTYPE=image/png:https://www.aspenjewish.org/wp-content/uploads/2025/08/11.png
END:VEVENT
BEGIN:VEVENT
DTSTART;TZID=America/Denver:20260116T163000
DTEND;TZID=America/Denver:20260116T171500
DTSTAMP:20260420T001341
CREATED:20251217T234206Z
LAST-MODIFIED:20260102T222544Z
UID:10000419-1768581000-1768583700@www.aspenjewish.org
SUMMARY:Shabbat Sings
DESCRIPTION:Rabbi Sima & musicians will lead this joyous celebration of Shabbat and the weekend. Geared for children 0-5 years old and their families\, but anyone 0-100 is welcome. A kid friendly dinner follows. RSVPs requested\, see below. 
URL:https://www.aspenjewish.org/event/shabbat-sings-6/
LOCATION:Aspen Chapel Gallery\, 77 Meadowood Drive\, Aspen\, CO\, 81611\, United States
CATEGORIES:Build Community,Shabbat
ATTACH;FMTTYPE=image/png:https://www.aspenjewish.org/wp-content/uploads/2025/10/Shabbat-Sings-2526-1600-x-900-px.png
END:VEVENT
BEGIN:VEVENT
DTSTART;VALUE=DATE:20260116
DTEND;VALUE=DATE:20260117
DTSTAMP:20260420T001341
CREATED:20251229T204350Z
LAST-MODIFIED:20260107T171116Z
UID:10000474-1768521600-1768607999@www.aspenjewish.org
SUMMARY:Shabbat Across the RFV
DESCRIPTION:Shabbat Across the Roaring Fork Valley brings community together through intimate Shabbat dinners hosted in congregants’ homes from January 16–March 27. We are inviting community members to open their homes and help create meaningful moments of connection around the Shabbat table. \nIf you are interested in hosting\, click here to learn more and sign up. \nIf you are interested in being a guest\, click here.
URL:https://www.aspenjewish.org/event/shabbat-across-the-roaring-fork-valley/2026-01-16/
LOCATION:Home Hosted
CATEGORIES:Build Community,Shabbat
ATTACH;FMTTYPE=image/png:https://www.aspenjewish.org/wp-content/uploads/2025/12/Shabbat-Across-RFV-headerv2.png
END:VEVENT
BEGIN:VEVENT
DTSTART;TZID=America/Denver:20260115T140000
DTEND;TZID=America/Denver:20260115T153000
DTSTAMP:20260420T001341
CREATED:20251211T181515Z
LAST-MODIFIED:20260226T190033Z
UID:10000342-1768485600-1768491000@www.aspenjewish.org
SUMMARY:Open Door Judaism
DESCRIPTION:Our 2026 cohort is underway\, to learn more about upcoming learning opportunities\, email our office.
URL:https://www.aspenjewish.org/event/open-door-judaism/2026-01-15/
LOCATION:Aspen Chapel Gallery\, 77 Meadowood Drive\, Aspen\, CO\, 81611\, United States
CATEGORIES:Learn
ATTACH;FMTTYPE=image/png:https://www.aspenjewish.org/wp-content/uploads/2025/12/Open-Door-header.png
END:VEVENT
END:VCALENDAR