BEGIN:VCALENDAR
VERSION:2.0
PRODID:-//Aspen Jewish Congregation - ECPv6.15.20//NONSGML v1.0//EN
CALSCALE:GREGORIAN
METHOD:PUBLISH
X-ORIGINAL-URL:https://www.aspenjewish.org
X-WR-CALDESC:Events for Aspen Jewish Congregation
REFRESH-INTERVAL;VALUE=DURATION:PT1H
X-Robots-Tag:noindex
X-PUBLISHED-TTL:PT1H
BEGIN:VTIMEZONE
TZID:America/Denver
BEGIN:DAYLIGHT
TZOFFSETFROM:-0700
TZOFFSETTO:-0600
TZNAME:MDT
DTSTART:20250309T090000
END:DAYLIGHT
BEGIN:STANDARD
TZOFFSETFROM:-0600
TZOFFSETTO:-0700
TZNAME:MST
DTSTART:20251102T080000
END:STANDARD
BEGIN:DAYLIGHT
TZOFFSETFROM:-0700
TZOFFSETTO:-0600
TZNAME:MDT
DTSTART:20260308T090000
END:DAYLIGHT
BEGIN:STANDARD
TZOFFSETFROM:-0600
TZOFFSETTO:-0700
TZNAME:MST
DTSTART:20261101T080000
END:STANDARD
BEGIN:DAYLIGHT
TZOFFSETFROM:-0700
TZOFFSETTO:-0600
TZNAME:MDT
DTSTART:20270314T090000
END:DAYLIGHT
BEGIN:STANDARD
TZOFFSETFROM:-0600
TZOFFSETTO:-0700
TZNAME:MST
DTSTART:20271107T080000
END:STANDARD
END:VTIMEZONE
BEGIN:VEVENT
DTSTART;TZID=America/Denver:20260708T110000
DTEND;TZID=America/Denver:20260708T123000
DTSTAMP:20260419T183652
CREATED:20260306T000620Z
LAST-MODIFIED:20260306T000734Z
UID:10000511-1783508400-1783513800@www.aspenjewish.org
SUMMARY:The Art of Aging
DESCRIPTION:The Art of Aging: A monthly gathering for conversation\, learning\, and connection \nAging comes with stories\, questions\, challenges\, humor\, and hard-won wisdom. The Art of Aging is a monthly gathering for people who want to talk about all of it—honestly. \nTogether with Rabbi Sima\, we will explore the many dimensions of aging—through conversation\, shared learning\, and community. We’ll share experiences\, learn from one another\, invite occasional experts\, and most importantly\, enjoy good company. Some months will be thoughtful\, some will be fun\, and many will be both. Every gathering will include time for connection\, laughter\, reflection\, and community. \nThere is no single way to age\, and no need to do it alone. Come as you are. Bring your questions\, your wisdom\, your humor\, and your lived experience. This is a space to be real\, to be heard\, and to age—together. \n 
URL:https://www.aspenjewish.org/event/the-art-of-aging-7/
CATEGORIES:Build Community
ATTACH;FMTTYPE=image/png:https://www.aspenjewish.org/wp-content/uploads/2025/11/soulful-aging-header.png
END:VEVENT
END:VCALENDAR