BEGIN:VCALENDAR
VERSION:2.0
PRODID:-//Aspen Jewish Congregation - ECPv6.15.20//NONSGML v1.0//EN
CALSCALE:GREGORIAN
METHOD:PUBLISH
X-WR-CALNAME:Aspen Jewish Congregation
X-ORIGINAL-URL:https://www.aspenjewish.org
X-WR-CALDESC:Events for Aspen Jewish Congregation
REFRESH-INTERVAL;VALUE=DURATION:PT1H
X-Robots-Tag:noindex
X-PUBLISHED-TTL:PT1H
BEGIN:VTIMEZONE
TZID:America/Denver
BEGIN:DAYLIGHT
TZOFFSETFROM:-0700
TZOFFSETTO:-0600
TZNAME:MDT
DTSTART:20250309T090000
END:DAYLIGHT
BEGIN:STANDARD
TZOFFSETFROM:-0600
TZOFFSETTO:-0700
TZNAME:MST
DTSTART:20251102T080000
END:STANDARD
BEGIN:DAYLIGHT
TZOFFSETFROM:-0700
TZOFFSETTO:-0600
TZNAME:MDT
DTSTART:20260308T090000
END:DAYLIGHT
BEGIN:STANDARD
TZOFFSETFROM:-0600
TZOFFSETTO:-0700
TZNAME:MST
DTSTART:20261101T080000
END:STANDARD
BEGIN:DAYLIGHT
TZOFFSETFROM:-0700
TZOFFSETTO:-0600
TZNAME:MDT
DTSTART:20270314T090000
END:DAYLIGHT
BEGIN:STANDARD
TZOFFSETFROM:-0600
TZOFFSETTO:-0700
TZNAME:MST
DTSTART:20271107T080000
END:STANDARD
END:VTIMEZONE
BEGIN:VEVENT
DTSTART;TZID=America/Denver:20260501T153000
DTEND;TZID=America/Denver:20260501T180000
DTSTAMP:20260419T150207
CREATED:20260310T170625Z
LAST-MODIFIED:20260310T170625Z
UID:10000513-1777649400-1777658400@www.aspenjewish.org
SUMMARY:Friday Camp: Blue & White Day!
DESCRIPTION:Pick a side and bring your team spirit! We’ll spend the afternoon playing games\, cheering loudly\, and having fun together. \n  \n  \nAfternoon Schedule \n3:15 pm | Children depart from school (AES students walked over by program leaders) Snack upon arrival \n3:45 pm | Activities for Grades K-7 (Tots welcome with parent-guided activities) \n4:30 pm | Shabbat Sings (all ages welcome) \n5:15 pm| Family Dinner \n6:00 pm | AJC Shabbat Services – led by Hebrew School students \nCome when you can\, leave when you have to.
URL:https://www.aspenjewish.org/event/friday-camp-blue-white-day/
LOCATION:Aspen Chapel\, 77 Meadowood Drive\, Aspen\, CO\, 81611\, United States
CATEGORIES:Shabbat
ATTACH;FMTTYPE=image/png:https://www.aspenjewish.org/wp-content/uploads/2025/12/Friday-Fun-Headers.png
END:VEVENT
BEGIN:VEVENT
DTSTART;TZID=America/Denver:20260506T190000
DTEND;TZID=America/Denver:20260506T210000
DTSTAMP:20260419T150207
CREATED:20251222T220845Z
LAST-MODIFIED:20260223T204418Z
UID:10000435-1778094000-1778101200@www.aspenjewish.org
SUMMARY:Teen Giving Circle
DESCRIPTION:In collaboration with the Aspen Community Foundation\, teens explore philanthropy\, identify local needs\, and take action — raising and allocating funds to causes they care about. \nContact Rabbi Sima for more information.
URL:https://www.aspenjewish.org/event/teen-giving-circle/2026-05-06/
LOCATION:Aspen Chapel\, 77 Meadowood Drive\, Aspen\, CO\, 81611\, United States
CATEGORIES:Build Community
ATTACH;FMTTYPE=image/jpeg:https://www.aspenjewish.org/wp-content/uploads/2025/06/teens-1.jpg
END:VEVENT
BEGIN:VEVENT
DTSTART;TZID=America/Denver:20260507T140000
DTEND;TZID=America/Denver:20260507T153000
DTSTAMP:20260419T150207
CREATED:20251211T181515Z
LAST-MODIFIED:20260226T190033Z
UID:10000358-1778162400-1778167800@www.aspenjewish.org
SUMMARY:Open Door Judaism
DESCRIPTION:Our 2026 cohort is underway\, to learn more about upcoming learning opportunities\, email our office.
URL:https://www.aspenjewish.org/event/open-door-judaism/2026-05-07/
LOCATION:Aspen Chapel Gallery\, 77 Meadowood Drive\, Aspen\, CO\, 81611\, United States
CATEGORIES:Learn
ATTACH;FMTTYPE=image/png:https://www.aspenjewish.org/wp-content/uploads/2025/12/Open-Door-header.png
END:VEVENT
BEGIN:VEVENT
DTSTART;TZID=America/Denver:20260513T110000
DTEND;TZID=America/Denver:20260513T123000
DTSTAMP:20260419T150207
CREATED:20260305T235144Z
LAST-MODIFIED:20260305T235144Z
UID:10000509-1778670000-1778675400@www.aspenjewish.org
SUMMARY:The Art of Aging
DESCRIPTION:The Art of Aging: A monthly gathering for conversation\, learning\, and connection \nAging comes with stories\, questions\, challenges\, humor\, and hard-won wisdom. The Art of Aging is a monthly gathering for people who want to talk about all of it—honestly. \nTogether with Rabbi Sima\, we will explore the many dimensions of aging—through conversation\, shared learning\, and community. We’ll share experiences\, learn from one another\, invite occasional experts\, and most importantly\, enjoy good company. Some months will be thoughtful\, some will be fun\, and many will be both. Every gathering will include time for connection\, laughter\, reflection\, and community. \nThere is no single way to age\, and no need to do it alone. Come as you are. Bring your questions\, your wisdom\, your humor\, and your lived experience. This is a space to be real\, to be heard\, and to age—together. \nThis session we will discuss managing our relationships with children\, in-laws\, and grandchildren.
URL:https://www.aspenjewish.org/event/the-art-of-aging-5/
CATEGORIES:Build Community
ATTACH;FMTTYPE=image/png:https://www.aspenjewish.org/wp-content/uploads/2025/11/soulful-aging-header.png
END:VEVENT
BEGIN:VEVENT
DTSTART;TZID=America/Denver:20260514T140000
DTEND;TZID=America/Denver:20260514T153000
DTSTAMP:20260419T150207
CREATED:20251211T181515Z
LAST-MODIFIED:20260226T190033Z
UID:10000359-1778767200-1778772600@www.aspenjewish.org
SUMMARY:Open Door Judaism
DESCRIPTION:Our 2026 cohort is underway\, to learn more about upcoming learning opportunities\, email our office.
URL:https://www.aspenjewish.org/event/open-door-judaism/2026-05-14/
LOCATION:Aspen Chapel Gallery\, 77 Meadowood Drive\, Aspen\, CO\, 81611\, United States
CATEGORIES:Learn
ATTACH;FMTTYPE=image/png:https://www.aspenjewish.org/wp-content/uploads/2025/12/Open-Door-header.png
END:VEVENT
BEGIN:VEVENT
DTSTART;TZID=America/Denver:20260521T140000
DTEND;TZID=America/Denver:20260521T153000
DTSTAMP:20260419T150207
CREATED:20251211T181515Z
LAST-MODIFIED:20260226T190033Z
UID:10000360-1779372000-1779377400@www.aspenjewish.org
SUMMARY:Open Door Judaism
DESCRIPTION:Our 2026 cohort is underway\, to learn more about upcoming learning opportunities\, email our office.
URL:https://www.aspenjewish.org/event/open-door-judaism/2026-05-21/
LOCATION:Aspen Chapel Gallery\, 77 Meadowood Drive\, Aspen\, CO\, 81611\, United States
CATEGORIES:Learn
ATTACH;FMTTYPE=image/png:https://www.aspenjewish.org/wp-content/uploads/2025/12/Open-Door-header.png
END:VEVENT
BEGIN:VEVENT
DTSTART;TZID=America/Denver:20260528T140000
DTEND;TZID=America/Denver:20260528T153000
DTSTAMP:20260419T150207
CREATED:20251211T181515Z
LAST-MODIFIED:20260226T190033Z
UID:10000361-1779976800-1779982200@www.aspenjewish.org
SUMMARY:Open Door Judaism
DESCRIPTION:Our 2026 cohort is underway\, to learn more about upcoming learning opportunities\, email our office.
URL:https://www.aspenjewish.org/event/open-door-judaism/2026-05-28/
LOCATION:Aspen Chapel Gallery\, 77 Meadowood Drive\, Aspen\, CO\, 81611\, United States
CATEGORIES:Learn
ATTACH;FMTTYPE=image/png:https://www.aspenjewish.org/wp-content/uploads/2025/12/Open-Door-header.png
END:VEVENT
END:VCALENDAR