BEGIN:VCALENDAR
VERSION:2.0
PRODID:-//Aspen Jewish Congregation - ECPv6.15.20//NONSGML v1.0//EN
CALSCALE:GREGORIAN
METHOD:PUBLISH
X-ORIGINAL-URL:https://www.aspenjewish.org
X-WR-CALDESC:Events for Aspen Jewish Congregation
REFRESH-INTERVAL;VALUE=DURATION:PT1H
X-Robots-Tag:noindex
X-PUBLISHED-TTL:PT1H
BEGIN:VTIMEZONE
TZID:America/Denver
BEGIN:DAYLIGHT
TZOFFSETFROM:-0700
TZOFFSETTO:-0600
TZNAME:MDT
DTSTART:20240310T090000
END:DAYLIGHT
BEGIN:STANDARD
TZOFFSETFROM:-0600
TZOFFSETTO:-0700
TZNAME:MST
DTSTART:20241103T080000
END:STANDARD
BEGIN:DAYLIGHT
TZOFFSETFROM:-0700
TZOFFSETTO:-0600
TZNAME:MDT
DTSTART:20250309T090000
END:DAYLIGHT
BEGIN:STANDARD
TZOFFSETFROM:-0600
TZOFFSETTO:-0700
TZNAME:MST
DTSTART:20251102T080000
END:STANDARD
BEGIN:DAYLIGHT
TZOFFSETFROM:-0700
TZOFFSETTO:-0600
TZNAME:MDT
DTSTART:20260308T090000
END:DAYLIGHT
BEGIN:STANDARD
TZOFFSETFROM:-0600
TZOFFSETTO:-0700
TZNAME:MST
DTSTART:20261101T080000
END:STANDARD
END:VTIMEZONE
BEGIN:VEVENT
DTSTART;TZID=America/Denver:20250701T090000
DTEND;TZID=America/Denver:20250701T100000
DTSTAMP:20260423T045449
CREATED:20250619T181819Z
LAST-MODIFIED:20250620T135411Z
UID:10000056-1751360400-1751364000@www.aspenjewish.org
SUMMARY:Sacred Cycles | Shabbat: A Sanctuary in Time
DESCRIPTION:Rabbinic Intern Jennifer Moses will guide us as we delve into the flow of the Jewish calendar and explore four holiday-related themes while enjoying coffee and light bites together. Come for one session or attend them all—everyone is welcome! \nJuly 1\, 9-10 am – Shabbat: A Sanctuary in Time \nJuly 8\, 9-10 am – Preparing for the High Holidays: Elul and the Journey of Transformation \nJuly 22\, 9-10 am – Sukkot and Simchat Torah: Finding Joy in Impermanence \nJuly 29\, 9-10 am – Passover to Shavuot: The Age of Anxiety \nRSVPs requested\, see below. To sign up for the entire series\, email our office.
URL:https://www.aspenjewish.org/event/sacred-cycles-jewish-time-the-spiritual-year-5/
LOCATION:Third Street Center\, 520 S 3rd Street\, Carbondale\, CO\, 81623\, United States
CATEGORIES:Learn
ATTACH;FMTTYPE=image/png:https://www.aspenjewish.org/wp-content/uploads/2025/06/Sacred-Cycles-2.png
END:VEVENT
BEGIN:VEVENT
DTSTART;TZID=America/Denver:20250707T120000
DTEND;TZID=America/Denver:20250707T130000
DTSTAMP:20260423T045449
CREATED:20250619T180815Z
LAST-MODIFIED:20250626T122428Z
UID:10000053-1751889600-1751893200@www.aspenjewish.org
SUMMARY:Sacred Cycles | Preparing for the High Holidays: Elul and the Journey of Transformation
DESCRIPTION:June 30\, 12-1 pm – Shabbat: A Sanctuary in Time \nJuly 7\, 12-1 pm – Preparing for the High Holidays: Elul and the Journey of Transformation \nJul 21\, 12-1 pm – Sukkot & Simchat Torah: Finding Joy in Impermanence \nJuly 28\, 12-1 pm – Passover to Shavuot: The Age of Anxiety \nRSVPs requested\, see below. To sign up for the full series\, email our office. \n 
URL:https://www.aspenjewish.org/event/sacred-cycles-jewish-time-the-spiritual-year-2/
LOCATION:Aspen Chapel Gallery\, 77 Meadowood Drive\, Aspen\, CO\, 81611\, United States
CATEGORIES:Learn
ATTACH;FMTTYPE=image/png:https://www.aspenjewish.org/wp-content/uploads/2025/06/Sacred-Cycles-2.png
END:VEVENT
BEGIN:VEVENT
DTSTART;TZID=America/Denver:20250708T090000
DTEND;TZID=America/Denver:20250708T100000
DTSTAMP:20260423T045449
CREATED:20250619T182328Z
LAST-MODIFIED:20250626T122428Z
UID:10000057-1751965200-1751968800@www.aspenjewish.org
SUMMARY:Sacred Cycles | Preparing for the High Holidays: Elul and the Journey of Transformation
DESCRIPTION:Rabbinic Intern Jennifer Moses will guide us as we delve into the flow of the Jewish calendar and explore four holiday-related themes while enjoying coffee and light bites together. Come for one session or attend them all—everyone is welcome! \nJuly 1\, 9-10 am – Shabbat: A Sanctuary in Time \nJuly 8\, 9-10 am – Preparing for the High Holidays: Elul and the Journey of Transformation \nJuly 22\, 9-10 am – Sukkot and Simchat Torah: Finding Joy in Impermanence \nJuly 29\, 9-10 am – Passover to Shavuot: The Age of Anxiety \nRSVPs requested\, see below. To sign up for the entire series\, email our office. \n 
URL:https://www.aspenjewish.org/event/sacred-cycles-jewish-time-the-spiritual-year-6/
LOCATION:Third Street Center\, 520 S 3rd Street\, Carbondale\, CO\, 81623\, United States
CATEGORIES:Learn
ATTACH;FMTTYPE=image/png:https://www.aspenjewish.org/wp-content/uploads/2025/06/Sacred-Cycles-2.png
END:VEVENT
BEGIN:VEVENT
DTSTART;TZID=America/Denver:20250710T173000
DTEND;TZID=America/Denver:20250710T183000
DTSTAMP:20260423T045449
CREATED:20250602T180429Z
LAST-MODIFIED:20250703T182130Z
UID:10000013-1752168600-1752172200@www.aspenjewish.org
SUMMARY:An Evening with Rabbi Angela Buchdahl
DESCRIPTION:In advance of releasing her memoir\, “Heart of a Stranger\,” New York City Central Synagogue Senior Rabbi Angela Buchdahl will discuss her life and the Jewish moment we’re living in. \nRabbi Angela Warnick Buchdahl serves as the Senior Rabbi of Central Synagogue in New York City and is the first woman to lead Central’s Reform congregation in its 180-year history. Born in  Korea to a Jewish American father and a Korean Buddhist mother\, Rabbi Buchdahl is the first Asian American to be ordained as cantor or rabbi in North America. Rabbi Buchdahl has been nationally recognized for her innovations in leading worship\, which draw large crowds both in the congregation’s historic Main Sanctuary and via live stream and cable broadcast to viewers in more than 100 countries. Rabbi Buchdahl has been listed in Newsweek’s “America’s 50 Most Influential Rabbis.” \nRSVPs required\, see below.
URL:https://www.aspenjewish.org/event/an-evening-with-rabbi-angela-buchdahl/
LOCATION:Paepcke Auditorium\, 1000 N. Third St.\, Aspen\, CO\, 81611\, United States
CATEGORIES:Learn
ATTACH;FMTTYPE=image/jpeg:https://www.aspenjewish.org/wp-content/uploads/2025/06/RabbiAngelaBuchdahl.jpg
END:VEVENT
BEGIN:VEVENT
DTSTART;TZID=America/Denver:20250711T164500
DTEND;TZID=America/Denver:20250711T164500
DTSTAMP:20260423T045449
CREATED:20250602T180523Z
LAST-MODIFIED:20250626T122428Z
UID:10000014-1752252300-1752252300@www.aspenjewish.org
SUMMARY:Cocktails & Conversation with Rabbi Shira
DESCRIPTION:How big should I be? Finding strength without crowding others \nJoin us for food\, drink\, and a fun\, substantive\, and reflective rabbi-led conversation before Shabbat services. \nIn Judaism\, middot are the inner traits — like patience\, gratitude\, and humility — that we all have\, but that need practice to really shine. We’ll explore one middah a week\, using timeless Jewish wisdom to help us live with more clarity\, courage\, and compassion.
URL:https://www.aspenjewish.org/event/cocktails-conversation-with-rabbi-shira/
LOCATION:Aspen Chapel Gallery\, 77 Meadowood Drive\, Aspen\, CO\, 81611\, United States
CATEGORIES:Learn
ATTACH;FMTTYPE=image/jpeg:https://www.aspenjewish.org/wp-content/uploads/2025/06/cocktails-and-conversation.jpg
END:VEVENT
BEGIN:VEVENT
DTSTART;TZID=America/Denver:20250721T120000
DTEND;TZID=America/Denver:20250721T130000
DTSTAMP:20260423T045449
CREATED:20250619T181218Z
LAST-MODIFIED:20250626T122428Z
UID:10000054-1753099200-1753102800@www.aspenjewish.org
SUMMARY:Sacred Cycles | Sukkot & Simchat Torah: Finding Joy in Impermanence
DESCRIPTION:June 30\, 12-1 pm – Shabbat: A Sanctuary in Time \nJuly 7\, 12-1 pm – Preparing for the High Holidays: Elul and the Journey of Transformation \nJul 21\, 12-1 pm – Sukkot & Simchat Torah: Finding Joy in Impermanence \nJuly 28\, 12-1 pm – Passover to Shavuot: The Age of Anxiety \nRSVPs requested\, see below. To sign up for the full series\, email our office. \n 
URL:https://www.aspenjewish.org/event/sacred-cycles-jewish-time-the-spiritual-year-3/
LOCATION:Aspen Chapel Gallery\, 77 Meadowood Drive\, Aspen\, CO\, 81611\, United States
CATEGORIES:Learn
ATTACH;FMTTYPE=image/png:https://www.aspenjewish.org/wp-content/uploads/2025/06/Sacred-Cycles-2.png
END:VEVENT
BEGIN:VEVENT
DTSTART;TZID=America/Denver:20250722T090000
DTEND;TZID=America/Denver:20250722T100000
DTSTAMP:20260423T045449
CREATED:20250619T182603Z
LAST-MODIFIED:20250626T122428Z
UID:10000058-1753174800-1753178400@www.aspenjewish.org
SUMMARY:Sacred Cycles | Sukkot and Simchat Torah: Finding Joy in Impermanence
DESCRIPTION:Rabbinic Intern Jennifer Moses will guide us as we delve into the flow of the Jewish calendar and explore four holiday-related themes while enjoying coffee and light bites together. Come for one session or attend them all—everyone is welcome! \nJuly 1\, 9-10 am – Shabbat: A Sanctuary in Time \nJuly 8\, 9-10 am – Preparing for the High Holidays: Elul and the Journey of Transformation \nJuly 22\, 9-10 am – Sukkot and Simchat Torah: Finding Joy in Impermanence \nJuly 29\, 9-10 am – Passover to Shavuot: The Age of Anxiety \nRSVPs requested\, see below. To sign up for the entire series\, email our office.
URL:https://www.aspenjewish.org/event/sacred-cycles-jewish-time-the-spiritual-year-7/
LOCATION:Third Street Center\, 520 S 3rd Street\, Carbondale\, CO\, 81623\, United States
CATEGORIES:Learn
ATTACH;FMTTYPE=image/png:https://www.aspenjewish.org/wp-content/uploads/2025/06/Sacred-Cycles-2.png
END:VEVENT
BEGIN:VEVENT
DTSTART;TZID=America/Denver:20250725T164500
DTEND;TZID=America/Denver:20250725T164500
DTSTAMP:20260423T045449
CREATED:20250602T180906Z
LAST-MODIFIED:20250716T170734Z
UID:10000021-1753461900-1753461900@www.aspenjewish.org
SUMMARY:Cocktails & Conversation with Rabbi Elie Kaunfer
DESCRIPTION:The Mourner’s Kaddish\, the most misunderstood Jewish prayer \nEnjoy food\, drink\, and a fun\, substantive\, and reflective rabbi-led conversation before Shabbat services. \nJoin us as we explore the essence of the Mourner’s Kaddish\, perhaps the most misunderstood prayer in Judaism. We will ask questions such as: Why is this prayer said by mourners\, if it is not specifically related to death and mourning? What are the deeper theological claims of the prayer\, and how might we relate to them today? \nOur guest leader this week is Rabbi Elie Kaunfer\, President and CEO of the Hadar Institute. Elie proudly serves on the board of the Harold Grinspoon Foundation. He has previously worked as a journalist\, banker\, and corporate fraud investigator. A graduate of Harvard College\, Elie completed his doctorate in liturgy at the Jewish Theological Seminary\, where he was also ordained. A Wexner Graduate Fellow and Dorot Fellow\, Elie is a co-founder of the independent minyan Kehilat Hadar and has been named multiple times to Newsweek’s list of the top 50 rabbis in America. He was selected as an inaugural AVI CHAI Fellow\, and is the author of Empowered Judaism: What Independent Minyanim Can Teach Us About Building Vibrant Jewish Communities. \n 
URL:https://www.aspenjewish.org/event/cocktails-conversation-with-rabbi-elie-kaunfer/
LOCATION:Aspen Chapel Gallery\, 77 Meadowood Drive\, Aspen\, CO\, 81611\, United States
CATEGORIES:Learn
ATTACH;FMTTYPE=image/jpeg:https://www.aspenjewish.org/wp-content/uploads/2025/06/cocktails-and-conversation.jpg
END:VEVENT
BEGIN:VEVENT
DTSTART;TZID=America/Denver:20250728T120000
DTEND;TZID=America/Denver:20250728T130000
DTSTAMP:20260423T045449
CREATED:20250619T181403Z
LAST-MODIFIED:20250626T122427Z
UID:10000055-1753704000-1753707600@www.aspenjewish.org
SUMMARY:Sacred Cycles | Passover to Shavuot: The Age of Anxiety
DESCRIPTION:June 30\, 12-1 pm – Shabbat: A Sanctuary in Time \nJuly 7\, 12-1 pm – Preparing for the High Holidays: Elul and the Journey of Transformation \nJul 21\, 12-1 pm – Sukkot & Simchat Torah: Finding Joy in Impermanence \nJuly 28\, 12-1 pm – Passover to Shavuot: The Age of Anxiety \nRSVPs requested\, see below. To sign up for the full series\, email our office. \n 
URL:https://www.aspenjewish.org/event/sacred-cycles-jewish-time-the-spiritual-year-4/
LOCATION:Aspen Chapel Gallery\, 77 Meadowood Drive\, Aspen\, CO\, 81611\, United States
CATEGORIES:Learn
ATTACH;FMTTYPE=image/png:https://www.aspenjewish.org/wp-content/uploads/2025/06/Sacred-Cycles-2.png
END:VEVENT
BEGIN:VEVENT
DTSTART;TZID=America/Denver:20250729T090000
DTEND;TZID=America/Denver:20250729T100000
DTSTAMP:20260423T045449
CREATED:20250619T182742Z
LAST-MODIFIED:20250626T122427Z
UID:10000059-1753779600-1753783200@www.aspenjewish.org
SUMMARY:Sacred Cycles | Passover to Shavuot: The Age of Anxiety
DESCRIPTION:Rabbinic Intern Jennifer Moses will guide us as we delve into the flow of the Jewish calendar and explore four holiday-related themes while enjoying coffee and light bites together. Come for one session or attend them all—everyone is welcome! \nJuly 1\, 9-10 am – Shabbat: A Sanctuary in Time \nJuly 8\, 9-10 am – Preparing for the High Holidays: Elul and the Journey of Transformation \nJuly 22\, 9-10 am – Sukkot and Simchat Torah: Finding Joy in Impermanence \nJuly 29\, 9-10 am – Passover to Shavuot: The Age of Anxiety \nRSVPs requested\, see below. To sign up for the entire series\, email our office. \n 
URL:https://www.aspenjewish.org/event/sacred-cycles-jewish-time-the-spiritual-year-8/
LOCATION:Third Street Center\, 520 S 3rd Street\, Carbondale\, CO\, 81623\, United States
CATEGORIES:Learn
ATTACH;FMTTYPE=image/png:https://www.aspenjewish.org/wp-content/uploads/2025/06/Sacred-Cycles-2.png
END:VEVENT
BEGIN:VEVENT
DTSTART;TZID=America/Denver:20250730T180000
DTEND;TZID=America/Denver:20250730T190000
DTSTAMP:20260423T045449
CREATED:20250602T181212Z
LAST-MODIFIED:20250717T193122Z
UID:10000027-1753898400-1753902000@www.aspenjewish.org
SUMMARY:Why Do Jewish Ideas Matter?
DESCRIPTION:The enduring power of Jewish wisdom \nPanelists: \nRabbi Elka Abrahamson\, President\, Wexner Foundation\nSarah Hurwitz\, Author and former White House speechwriter\nBret Stephens\, New York Times op-ed columnist \nJewish ideas offer a framework for thinking deeply and living purposefully. But in a world flooded with content and opinion\, what does Judaism offer that is distinctive and worth sustaining? This opening session explores what gives Jewish ideas their enduring relevance and why they’re worth learning from and living by today. \nThis event is part of the Aspen Jewish Conversations speaker series. \nRSVPs required\, see below.
URL:https://www.aspenjewish.org/event/aspen-jewish-conversations-with-sarah-hurwitz-and-bret-stephens/
LOCATION:Aspen Chapel\, 77 Meadowood Drive\, Aspen\, CO\, 81611\, United States
CATEGORIES:Learn
ATTACH;FMTTYPE=image/jpeg:https://www.aspenjewish.org/wp-content/uploads/2025/06/AJConversations.jpg
END:VEVENT
END:VCALENDAR