BEGIN:VCALENDAR
VERSION:2.0
PRODID:-//Aspen Jewish Congregation - ECPv6.15.20//NONSGML v1.0//EN
CALSCALE:GREGORIAN
METHOD:PUBLISH
X-WR-CALNAME:Aspen Jewish Congregation
X-ORIGINAL-URL:https://www.aspenjewish.org
X-WR-CALDESC:Events for Aspen Jewish Congregation
REFRESH-INTERVAL;VALUE=DURATION:PT1H
X-Robots-Tag:noindex
X-PUBLISHED-TTL:PT1H
BEGIN:VTIMEZONE
TZID:America/Denver
BEGIN:DAYLIGHT
TZOFFSETFROM:-0700
TZOFFSETTO:-0600
TZNAME:MDT
DTSTART:20240310T090000
END:DAYLIGHT
BEGIN:STANDARD
TZOFFSETFROM:-0600
TZOFFSETTO:-0700
TZNAME:MST
DTSTART:20241103T080000
END:STANDARD
BEGIN:DAYLIGHT
TZOFFSETFROM:-0700
TZOFFSETTO:-0600
TZNAME:MDT
DTSTART:20250309T090000
END:DAYLIGHT
BEGIN:STANDARD
TZOFFSETFROM:-0600
TZOFFSETTO:-0700
TZNAME:MST
DTSTART:20251102T080000
END:STANDARD
BEGIN:DAYLIGHT
TZOFFSETFROM:-0700
TZOFFSETTO:-0600
TZNAME:MDT
DTSTART:20260308T090000
END:DAYLIGHT
BEGIN:STANDARD
TZOFFSETFROM:-0600
TZOFFSETTO:-0700
TZNAME:MST
DTSTART:20261101T080000
END:STANDARD
BEGIN:DAYLIGHT
TZOFFSETFROM:-0700
TZOFFSETTO:-0600
TZNAME:MDT
DTSTART:20270314T090000
END:DAYLIGHT
BEGIN:STANDARD
TZOFFSETFROM:-0600
TZOFFSETTO:-0700
TZNAME:MST
DTSTART:20271107T080000
END:STANDARD
END:VTIMEZONE
BEGIN:VEVENT
DTSTART;VALUE=DATE:20260123
DTEND;VALUE=DATE:20260124
DTSTAMP:20260423T092508
CREATED:20251229T204350Z
LAST-MODIFIED:20260107T171116Z
UID:10000475-1769126400-1769212799@www.aspenjewish.org
SUMMARY:Shabbat Across the RFV
DESCRIPTION:Shabbat Across the Roaring Fork Valley brings community together through intimate Shabbat dinners hosted in congregants’ homes from January 16–March 27. We are inviting community members to open their homes and help create meaningful moments of connection around the Shabbat table. \nIf you are interested in hosting\, click here to learn more and sign up. \nIf you are interested in being a guest\, click here.
URL:https://www.aspenjewish.org/event/shabbat-across-the-roaring-fork-valley/2026-01-23/
LOCATION:Home Hosted
CATEGORIES:Build Community,Shabbat
ATTACH;FMTTYPE=image/png:https://www.aspenjewish.org/wp-content/uploads/2025/12/Shabbat-Across-RFV-headerv2.png
END:VEVENT
BEGIN:VEVENT
DTSTART;TZID=America/Denver:20260121T100000
DTEND;TZID=America/Denver:20260121T113000
DTSTAMP:20260423T092508
CREATED:20251114T200102Z
LAST-MODIFIED:20251230T233107Z
UID:10000189-1768989600-1768995000@www.aspenjewish.org
SUMMARY:Bibs & Burps
DESCRIPTION:Supporting Moms & Babies in the Roaring Fork Valley \nAspen Bibs & Burps is a 6-week program for moms and their little ones designed to educate\, support\, and honor each participant as we play and learn together. Our sessions will include time to socialize\, engage with our babies\, and learn from guest experts in the fields of postpartum care\, pediatrics\, mental health\, and more. \nExpert Talks \nExperts are volunteering their time from across the valley to support new moms and answer questions. \nCommunity Support \nMeet other moms in the RFV and begin forming lasting friendships during this 6-week program. \nThis program is hosted by the Aspen Jewish Congregation and is open to everyone. \nTo sign up\, please email Rabbi Sima.
URL:https://www.aspenjewish.org/event/bibs-burps/2026-01-21/
LOCATION:Aspen Chapel Gallery\, 77 Meadowood Drive\, Aspen\, CO\, 81611\, United States
CATEGORIES:Build Community,Learn
ATTACH;FMTTYPE=image/png:https://www.aspenjewish.org/wp-content/uploads/2025/11/Bibs-Burps-2026-header.png
END:VEVENT
BEGIN:VEVENT
DTSTART;TZID=America/Denver:20260116T163000
DTEND;TZID=America/Denver:20260116T171500
DTSTAMP:20260423T092508
CREATED:20251217T234206Z
LAST-MODIFIED:20260102T222544Z
UID:10000419-1768581000-1768583700@www.aspenjewish.org
SUMMARY:Shabbat Sings
DESCRIPTION:Rabbi Sima & musicians will lead this joyous celebration of Shabbat and the weekend. Geared for children 0-5 years old and their families\, but anyone 0-100 is welcome. A kid friendly dinner follows. RSVPs requested\, see below. 
URL:https://www.aspenjewish.org/event/shabbat-sings-6/
LOCATION:Aspen Chapel Gallery\, 77 Meadowood Drive\, Aspen\, CO\, 81611\, United States
CATEGORIES:Build Community,Shabbat
ATTACH;FMTTYPE=image/png:https://www.aspenjewish.org/wp-content/uploads/2025/10/Shabbat-Sings-2526-1600-x-900-px.png
END:VEVENT
BEGIN:VEVENT
DTSTART;VALUE=DATE:20260116
DTEND;VALUE=DATE:20260117
DTSTAMP:20260423T092508
CREATED:20251229T204350Z
LAST-MODIFIED:20260107T171116Z
UID:10000474-1768521600-1768607999@www.aspenjewish.org
SUMMARY:Shabbat Across the RFV
DESCRIPTION:Shabbat Across the Roaring Fork Valley brings community together through intimate Shabbat dinners hosted in congregants’ homes from January 16–March 27. We are inviting community members to open their homes and help create meaningful moments of connection around the Shabbat table. \nIf you are interested in hosting\, click here to learn more and sign up. \nIf you are interested in being a guest\, click here.
URL:https://www.aspenjewish.org/event/shabbat-across-the-roaring-fork-valley/2026-01-16/
LOCATION:Home Hosted
CATEGORIES:Build Community,Shabbat
ATTACH;FMTTYPE=image/png:https://www.aspenjewish.org/wp-content/uploads/2025/12/Shabbat-Across-RFV-headerv2.png
END:VEVENT
BEGIN:VEVENT
DTSTART;TZID=America/Denver:20260114T100000
DTEND;TZID=America/Denver:20260114T113000
DTSTAMP:20260423T092508
CREATED:20251114T200102Z
LAST-MODIFIED:20251230T233107Z
UID:10000188-1768384800-1768390200@www.aspenjewish.org
SUMMARY:Bibs & Burps
DESCRIPTION:Supporting Moms & Babies in the Roaring Fork Valley \nAspen Bibs & Burps is a 6-week program for moms and their little ones designed to educate\, support\, and honor each participant as we play and learn together. Our sessions will include time to socialize\, engage with our babies\, and learn from guest experts in the fields of postpartum care\, pediatrics\, mental health\, and more. \nExpert Talks \nExperts are volunteering their time from across the valley to support new moms and answer questions. \nCommunity Support \nMeet other moms in the RFV and begin forming lasting friendships during this 6-week program. \nThis program is hosted by the Aspen Jewish Congregation and is open to everyone. \nTo sign up\, please email Rabbi Sima.
URL:https://www.aspenjewish.org/event/bibs-burps/2026-01-14/
LOCATION:Aspen Chapel Gallery\, 77 Meadowood Drive\, Aspen\, CO\, 81611\, United States
CATEGORIES:Build Community,Learn
ATTACH;FMTTYPE=image/png:https://www.aspenjewish.org/wp-content/uploads/2025/11/Bibs-Burps-2026-header.png
END:VEVENT
BEGIN:VEVENT
DTSTART;TZID=America/Denver:20260109T180000
DTEND;TZID=America/Denver:20260109T200000
DTSTAMP:20260423T092508
CREATED:20251211T181938Z
LAST-MODIFIED:20251217T232903Z
UID:10000414-1767981600-1767988800@www.aspenjewish.org
SUMMARY:Shabbat Services & Dinner
DESCRIPTION:Welcome Shabbat with Rabbi Shira and the AJC\, then stay for our first Shabbat dinner of 2026. RSVPs requested\, see below.
URL:https://www.aspenjewish.org/event/shabbat-dinner-2/
LOCATION:Aspen Chapel\, 77 Meadowood Drive\, Aspen\, CO\, 81611\, United States
CATEGORIES:Build Community,Shabbat
ATTACH;FMTTYPE=image/png:https://www.aspenjewish.org/wp-content/uploads/2025/10/shabbat.png
END:VEVENT
BEGIN:VEVENT
DTSTART;TZID=America/Denver:20260107T110000
DTEND;TZID=America/Denver:20260107T123000
DTSTAMP:20260423T092508
CREATED:20251114T202213Z
LAST-MODIFIED:20251219T214827Z
UID:10000195-1767783600-1767789000@www.aspenjewish.org
SUMMARY:The Art of Aging: Help Us Shape What Comes Next
DESCRIPTION:A Lunch & Conversation with Rabbi Sima \nAging is not one thing—it is many things. There is no single “right” way to age\, and no one should have to navigate it alone. \nJoin Rabbi Sima for a casual lunch and open conversation at her home as we explore the art of aging together. This gathering marks a new chapter—a chance to connect with others\, and an opportunity to share your hopes\, ideas\, and interests as we reimagine what this community around aging could look like. Whether you are curious about aging well\, aging gracefully\, aging honestly—or simply aging in good company—your voice is welcome. \nThis gathering is intentionally informal and inclusive\, welcoming new voices and fresh ideas about what kind of space and community would feel most meaningful going forward. Friends are encouraged to attend. Come to listen\, to speak\, or simply to be part of the conversation. No preparation needed—just curiosity and conversation. \nRSVP below\, address to be sent following submission. 
URL:https://www.aspenjewish.org/event/art-of-aging/
LOCATION:Hosted In Basalt
CATEGORIES:Build Community
ATTACH;FMTTYPE=image/png:https://www.aspenjewish.org/wp-content/uploads/2025/11/soulful-aging-header.png
END:VEVENT
BEGIN:VEVENT
DTSTART;TZID=America/Denver:20260106T130000
DTEND;TZID=America/Denver:20260106T140000
DTSTAMP:20260423T092508
CREATED:20251201T192230Z
LAST-MODIFIED:20251211T173830Z
UID:10000316-1767704400-1767708000@www.aspenjewish.org
SUMMARY:Volunteer with Harvest for Hunger
DESCRIPTION:Help Harvest for Hunger rescue surplus food and stock a stigma-free\, self-service food pantry\, ensuring that everyone in our community has access to healthy and nourishing food. Join us on the first Tuesday of each month in Aspen for this this short\, but powerful\, hour of service to directly support food security in our community. Harvest for Hunger is dedicated to reducing food waste in the Roaring Fork Valley and feeding those in need. For questions or to sign up to volunteer email Jen Goldfarb. Learn more about the organization here.
URL:https://www.aspenjewish.org/event/volunteer-with-harvest-for-hunger-3/
LOCATION:Pitkin County Health & Human Services Building\, 405 Castle Creek Road\, Aspen\, 81611\, United States
CATEGORIES:Build Community
ATTACH;FMTTYPE=image/png:https://www.aspenjewish.org/wp-content/uploads/2025/12/Harvest-For-Hunger-header.png
END:VEVENT
BEGIN:VEVENT
DTSTART;TZID=America/Denver:20251226T130000
DTEND;TZID=America/Denver:20251226T140000
DTSTAMP:20260423T092508
CREATED:20251201T192151Z
LAST-MODIFIED:20251201T204448Z
UID:10000211-1766754000-1766757600@www.aspenjewish.org
SUMMARY:Volunteer with Harvest for Hunger
DESCRIPTION:Harvest for Hunger is anticipating a large food rescue on Friday\, December 26th. They need volunteers to help unload the food and re-stock the pantry from 1-2pm. Meet in the HHS parking lot and look for the Harvest for Hunger van. This will be a quick and high-impact way to help. Sign up here.
URL:https://www.aspenjewish.org/event/volunteer-with-harvest-for-hunger-2/
LOCATION:Pitkin County Health & Human Services\, 405 Castle Creek Road #8\, Aspen\, Colorado\, 81611
CATEGORIES:Build Community
ATTACH;FMTTYPE=image/png:https://www.aspenjewish.org/wp-content/uploads/2025/12/Harvest-For-Hunger-header.png
END:VEVENT
BEGIN:VEVENT
DTSTART;TZID=America/Denver:20251225T150000
DTEND;TZID=America/Denver:20251225T183000
DTSTAMP:20260423T092508
CREATED:20251125T181352Z
LAST-MODIFIED:20251224T191017Z
UID:10000207-1766674800-1766687400@www.aspenjewish.org
SUMMARY:Cross Country & Chinese
DESCRIPTION:Was this your family tradition? Join ours! Start with cross-country skiing or snowshoeing or simply come early & enjoy s’mores. Chinese food will follow. Bring your own gear. Children and guests are welcome. Online RSVPs are now closed\, please email our office. Address will be shared following RSVP. \n3 pm | Outdoor Activities  \n5 pm | Dinner
URL:https://www.aspenjewish.org/event/cross-country-chinese/
LOCATION:Hosted in Aspen
CATEGORIES:Build Community
ATTACH;FMTTYPE=image/png:https://www.aspenjewish.org/wp-content/uploads/2025/11/cross-country-chinese.png
END:VEVENT
BEGIN:VEVENT
DTSTART;TZID=America/Denver:20251225T120000
DTEND;TZID=America/Denver:20251225T170000
DTSTAMP:20260423T092508
CREATED:20251201T191910Z
LAST-MODIFIED:20251201T204335Z
UID:10000210-1766664000-1766682000@www.aspenjewish.org
SUMMARY:Volunteer with Harvest for Hunger
DESCRIPTION:Help keep the food pantry open on Christmas Day by volunteering for a 1-hour shift anytime between 12–5pm. Your service will allow the food pantry to stay open and the regular staff to spend the holiday with their families. Sign up here.
URL:https://www.aspenjewish.org/event/harvest-for-hunger-food-pantry-on-christmas-day/
LOCATION:Pitkin County Health & Human Services\, 405 Castle Creek Road #8\, Aspen\, Colorado\, 81611
CATEGORIES:Build Community
ATTACH;FMTTYPE=image/png:https://www.aspenjewish.org/wp-content/uploads/2025/12/Harvest-For-Hunger-header.png
END:VEVENT
BEGIN:VEVENT
DTSTART;TZID=America/Denver:20251221T170000
DTEND;TZID=America/Denver:20251221T193000
DTSTAMP:20260423T092508
CREATED:20251114T220400Z
LAST-MODIFIED:20251210T225620Z
UID:10000203-1766336400-1766345400@www.aspenjewish.org
SUMMARY:Carbondale Chanukah Party
DESCRIPTION:Join DVJ for this family-friendly Chanukah party. Enjoy music\, kids activities\, latkes\, sufganiyot\, and brisket. \nPlease bring a side dish to share plus $20 per adult. \nThis event is at maximum capacity. To join the waitlist\, click here.
URL:https://www.aspenjewish.org/event/carbondale-chanukah-party/
LOCATION:Carbondale Fire Station\, 300 Meadowood Dr\, Carbondale\, 81623\, United States
CATEGORIES:Build Community
ATTACH;FMTTYPE=image/png:https://www.aspenjewish.org/wp-content/uploads/2025/11/dvj-header.png
END:VEVENT
BEGIN:VEVENT
DTSTART;TZID=America/Denver:20251219T190000
DTEND;TZID=America/Denver:20251219T190000
DTSTAMP:20260423T092508
CREATED:20251114T215805Z
LAST-MODIFIED:20251201T234716Z
UID:10000202-1766170800-1766170800@www.aspenjewish.org
SUMMARY:YJC Chanukah Party
DESCRIPTION:Light up Chanukah with other 20- and 30-somethings—latkes\, drinks\, good music\, and a great crowd of friends\, new and old. \nHosted by Sophia Clark & William Brown. \n  \nAddress provided upon RSVP. \nYoung Jewish Community gathers RFV Jews (and non-Jewish partners) ages 21–45 for meals\, celebrations\, and meaningful Jewish connections.
URL:https://www.aspenjewish.org/event/yjc-chanukah-party/
LOCATION:Hosted in Glenwood Springs
CATEGORIES:Build Community
ATTACH;FMTTYPE=image/png:https://www.aspenjewish.org/wp-content/uploads/2025/11/yjc-header.png
END:VEVENT
BEGIN:VEVENT
DTSTART;TZID=America/Denver:20251219T163000
DTEND;TZID=America/Denver:20251219T181500
DTSTAMP:20260423T092508
CREATED:20251114T214736Z
LAST-MODIFIED:20251114T214821Z
UID:10000201-1766161800-1766168100@www.aspenjewish.org
SUMMARY:Shabbat Sings: Chanukah Edition
DESCRIPTION:Join us for Shabbat Sings: The Chanukah Edition\, a joyful experience for children! Kids will enjoy a welcoming space with music\, dancing\, a delicious Shabbat dinner\, and a community candle-lighting ceremony for Shabbat and Chanukah. \n4:30 pm | Open play \n4:45 pm | Singing \n5:30 pm | Dinner \n6:00 pm | Candle lighting & Kabbalat Shabbat \n  \nTo sign up for Shabbat Sings\, email Rabbi Sima.
URL:https://www.aspenjewish.org/event/shabbat-sings-chanukah-edition/
LOCATION:Aspen Chapel\, 77 Meadowood Drive\, Aspen\, CO\, 81611\, United States
CATEGORIES:Build Community,Shabbat
ATTACH;FMTTYPE=image/png:https://www.aspenjewish.org/wp-content/uploads/2025/11/shabbat-sings-chanukah-header.png
END:VEVENT
BEGIN:VEVENT
DTSTART;TZID=America/Denver:20251218T180000
DTEND;TZID=America/Denver:20251218T180000
DTSTAMP:20260423T092508
CREATED:20251118T175704Z
LAST-MODIFIED:20251216T165506Z
UID:10000205-1766080800-1766080800@www.aspenjewish.org
SUMMARY:Light\, Latkes\, & Community: A Family Gathering
DESCRIPTION:Join us for a cozy Chanukah Gathering for families\, hosted by the Shenk/Genshaft family — an evening of menorah light\, latkes\, laughter\, and connection. \nAttendance is limited to the first 30 people and is at maximum capacity. To join the waitlist\, click here.
URL:https://www.aspenjewish.org/event/light-latkes-community/
LOCATION:Hosted in Snowmass Village
CATEGORIES:Build Community
ATTACH;FMTTYPE=image/png:https://www.aspenjewish.org/wp-content/uploads/2025/11/Snowmass-party.png
END:VEVENT
BEGIN:VEVENT
DTSTART;TZID=America/Denver:20251215T180000
DTEND;TZID=America/Denver:20251215T180000
DTSTAMP:20260423T092508
CREATED:20251119T171245Z
LAST-MODIFIED:20251119T171245Z
UID:10000206-1765821600-1765821600@www.aspenjewish.org
SUMMARY:Snowmass Menorah Lighting
DESCRIPTION:Celebrate the second night of Chanukah with live music. Experience an evening filled with light and togetherness as we honor the season’s message of hope and renewal. Bring your family\, your friends\, and anyone who could use a little extra light\, laughter\, and connection this season.
URL:https://www.aspenjewish.org/event/snowmass-menorah-lighting/
LOCATION:The Collective\, 49 Wood Rd.\, Snowmass Village\, 81615\, United States
CATEGORIES:Build Community
ATTACH;FMTTYPE=image/png:https://www.aspenjewish.org/wp-content/uploads/2025/11/collective-.png
END:VEVENT
BEGIN:VEVENT
DTSTART;TZID=America/Denver:20251214T170000
DTEND;TZID=America/Denver:20251214T170000
DTSTAMP:20260423T092508
CREATED:20251114T214411Z
LAST-MODIFIED:20251118T215515Z
UID:10000200-1765731600-1765731600@www.aspenjewish.org
SUMMARY:Basalt Menorah Lighting
DESCRIPTION:Join us on the first night of Chanukah and get the holiday started with this annual community event. Stay for the afterparty to enjoy dinner\, sufganiyot and to catch up with AJC friends. \n5:00 PM | Lighting & Songs \n5:30 PM | Afterparty at Sure Thing Burger
URL:https://www.aspenjewish.org/event/basalt-menorah-lighting/
LOCATION:Triangle Park\, Willits\, 750 E Valley Rd\, Basalt\, 81621\, United States
CATEGORIES:Build Community
ATTACH;FMTTYPE=image/png:https://www.aspenjewish.org/wp-content/uploads/2025/11/Basalt-Menorah-lighting-header.png
END:VEVENT
BEGIN:VEVENT
DTSTART;TZID=America/Denver:20251212T164500
DTEND;TZID=America/Denver:20251212T174500
DTSTAMP:20260423T092508
CREATED:20251006T210757Z
LAST-MODIFIED:20251203T234049Z
UID:10000113-1765557900-1765561500@www.aspenjewish.org
SUMMARY:Cocktails & Conversation: Finding Praise in a Complicated World
DESCRIPTION:Most of us are fluent in worry; praise is a language we forget how to speak. As Chanukah approaches\, join Rabbi Shira for a fun\, low-pressure introduction to Hallel—the short set of Psalms traditionally recited on Jewish holidays\, including Chanukah. We’ll sample a few lines\, ask real questions about gratitude and hope in a messy world\, and see how these ancient words might actually matter now. Come curious and leave with a new way to think about praise—and about Chanukah itself.
URL:https://www.aspenjewish.org/event/cocktails-conversation-with-rabbi-shira-6/
LOCATION:Aspen Chapel Gallery\, 77 Meadowood Drive\, Aspen\, CO\, 81611\, United States
CATEGORIES:Build Community,Learn
ATTACH;FMTTYPE=image/jpeg:https://www.aspenjewish.org/wp-content/uploads/2025/06/cocktails-and-conversation.jpg
END:VEVENT
BEGIN:VEVENT
DTSTART;TZID=America/Denver:20251210T110000
DTEND;TZID=America/Denver:20251210T123000
DTSTAMP:20260423T092508
CREATED:20251114T201833Z
LAST-MODIFIED:20251219T211626Z
UID:10000194-1765364400-1765369800@www.aspenjewish.org
SUMMARY:The Art of Aging
DESCRIPTION:
URL:https://www.aspenjewish.org/event/soulful-aging/
LOCATION:Hosted In Basalt
CATEGORIES:Build Community
ATTACH;FMTTYPE=image/png:https://www.aspenjewish.org/wp-content/uploads/2025/11/soulful-aging-header.png
END:VEVENT
BEGIN:VEVENT
DTSTART;TZID=America/Denver:20251206T180000
DTEND;TZID=America/Denver:20251206T203000
DTSTAMP:20260423T092508
CREATED:20251114T210632Z
LAST-MODIFIED:20251125T171149Z
UID:10000199-1765044000-1765053000@www.aspenjewish.org
SUMMARY:Teen Escape Room
DESCRIPTION:Travel back to Judea during the Greek empire to solve puzzles and decipher clues in a Chanukah themed escape room. Enjoy latkes\, dinner\, and Havdalah before the adventure begins. \nPick-up/drop-off in Basalt & Carbondale available upon request.  \n 
URL:https://www.aspenjewish.org/event/teen-escape-room/
LOCATION:Aspen Chapel\, 77 Meadowood Drive\, Aspen\, CO\, 81611\, United States
CATEGORIES:Build Community
ATTACH;FMTTYPE=image/png:https://www.aspenjewish.org/wp-content/uploads/2025/11/Escape-room-header.png
END:VEVENT
BEGIN:VEVENT
DTSTART;TZID=America/Denver:20251206T163000
DTEND;TZID=America/Denver:20251206T180000
DTSTAMP:20260423T092508
CREATED:20251020T173716Z
LAST-MODIFIED:20251020T173716Z
UID:10000177-1765038600-1765044000@www.aspenjewish.org
SUMMARY:Shabbat Sings
DESCRIPTION:Rabbi Sima & musicians will lead this joyous celebration of Shabbat and the weekend. Geared for children 0-5 years old and their families\, but anyone 0-100 is welcome. \nTo sign up for Shabbat Sings\, email Rabbi Sima.
URL:https://www.aspenjewish.org/event/shabbat-sings-4/
LOCATION:Hosted In Basalt
CATEGORIES:Build Community,Shabbat
ATTACH;FMTTYPE=image/png:https://www.aspenjewish.org/wp-content/uploads/2025/10/Shabbat-Sings-2526-1600-x-900-px.png
END:VEVENT
BEGIN:VEVENT
DTSTART;TZID=America/Denver:20251112T110000
DTEND;TZID=America/Denver:20251112T123000
DTSTAMP:20260423T092508
CREATED:20251103T230630Z
LAST-MODIFIED:20251103T230713Z
UID:10000178-1762945200-1762950600@www.aspenjewish.org
SUMMARY:Lunch & Learn
DESCRIPTION:Give Thanks: Thanksgiving Through an American Jewish Lens \nIn this class\, we will look at different Jewish perspectives on celebrating Thanksgiving (did you know that there was historical opposition along with embrace of the holiday?)\, in conversation with nuanced Native American reactions to Thanksgiving celebrations and Jewish values around gratitude and family.
URL:https://www.aspenjewish.org/event/lunch-learn/
LOCATION:Hosted in Carbondale
CATEGORIES:Build Community
ATTACH;FMTTYPE=image/png:https://www.aspenjewish.org/wp-content/uploads/2025/11/Lunch-and-Learn-11.12-1600-x-900-px.png
END:VEVENT
BEGIN:VEVENT
DTSTART;TZID=America/Denver:20251107T163000
DTEND;TZID=America/Denver:20251107T180000
DTSTAMP:20260423T092508
CREATED:20251020T173539Z
LAST-MODIFIED:20251020T173539Z
UID:10000176-1762533000-1762538400@www.aspenjewish.org
SUMMARY:Shabbat Sings
DESCRIPTION:Rabbi Sima & musicians will lead this joyous celebration of Shabbat and the weekend. Geared for children 0-5 years old and their families\, but anyone 0-100 is welcome. \nTo sign up for Shabbat Sings\, email Rabbi Sima.
URL:https://www.aspenjewish.org/event/shabbat-sings-3/
LOCATION:Aspen Chapel\, 77 Meadowood Drive\, Aspen\, CO\, 81611\, United States
CATEGORIES:Build Community,Shabbat
ATTACH;FMTTYPE=image/png:https://www.aspenjewish.org/wp-content/uploads/2025/10/Shabbat-Sings-2526-1600-x-900-px.png
END:VEVENT
BEGIN:VEVENT
DTSTART;TZID=America/Denver:20251104T130000
DTEND;TZID=America/Denver:20251104T140000
DTSTAMP:20260423T092508
CREATED:20251013T193146Z
LAST-MODIFIED:20251201T164933Z
UID:10000114-1762261200-1762264800@www.aspenjewish.org
SUMMARY:Volunteer with Harvest for Hunger
DESCRIPTION:Help Harvest for Hunger rescue surplus food and stock a stigma-free\, self-service food pantry\, ensuring that everyone in our community has access to healthy and nourishing food. Join us on the first Tuesday of each month in Aspen for this this short\, but powerful\, hour of service to directly support food security in our community. Harvest for Hunger is dedicated to reducing food waste in the Roaring Fork Valley and feeding those in need. For questions or to sign up to volunteer email Jen Goldfarb. Learn more about the organization here.
URL:https://www.aspenjewish.org/event/volunteer-with-harvest-for-hunger/
LOCATION:Pitkin County Health & Human Services Building\, 405 Castle Creek Road\, Aspen\, 81611\, United States
CATEGORIES:Build Community
ATTACH;FMTTYPE=image/png:https://www.aspenjewish.org/wp-content/uploads/2025/10/Untitled-design.png
END:VEVENT
BEGIN:VEVENT
DTSTART;TZID=America/Denver:20251101T163000
DTEND;TZID=America/Denver:20251101T180000
DTSTAMP:20260423T092508
CREATED:20251020T173104Z
LAST-MODIFIED:20251020T174003Z
UID:10000175-1762014600-1762020000@www.aspenjewish.org
SUMMARY:Shabbat Sings
DESCRIPTION:Rabbi Sima & musicians will lead this joyous celebration of Shabbat and the weekend. Geared for children 0-5 years old and their families\, but anyone 0-100 is welcome. \nTo sign up for Shabbat Sings\, email Rabbi Sima.
URL:https://www.aspenjewish.org/event/shabbat-sings-2/
LOCATION:Hosted In Basalt
CATEGORIES:Build Community,Shabbat
ATTACH;FMTTYPE=image/png:https://www.aspenjewish.org/wp-content/uploads/2025/10/Shabbat-Sings-2526-1600-x-900-px.png
END:VEVENT
BEGIN:VEVENT
DTSTART;TZID=America/Denver:20251029T110000
DTEND;TZID=America/Denver:20251029T123000
DTSTAMP:20260423T092508
CREATED:20251006T202309Z
LAST-MODIFIED:20251006T202342Z
UID:10000111-1761735600-1761741000@www.aspenjewish.org
SUMMARY:Bereavement Group
DESCRIPTION:Grief is complicated. AJC is partnering with Allison Daily from Pathfinders for a 4-week series on healing loss and finding strength together. This group\, open to anyone who has lost a friend or family member in the last few years\, will help provide a container to process the range of emotions that come with grieving. While no path is the same\, we will build community with others who are on a similar journey. If you\, or someone you know\, would benefit from this group\, contact please Rabbi Sima.
URL:https://www.aspenjewish.org/event/bereavement-group/2025-10-29/
LOCATION:Aspen Chapel\, 77 Meadowood Drive\, Aspen\, CO\, 81611\, United States
CATEGORIES:Build Community
ATTACH;FMTTYPE=image/png:https://www.aspenjewish.org/wp-content/uploads/2025/10/bereavement.png
END:VEVENT
BEGIN:VEVENT
DTSTART;TZID=America/Denver:20251022T110000
DTEND;TZID=America/Denver:20251022T123000
DTSTAMP:20260423T092508
CREATED:20251006T202309Z
LAST-MODIFIED:20251006T202342Z
UID:10000110-1761130800-1761136200@www.aspenjewish.org
SUMMARY:Bereavement Group
DESCRIPTION:Grief is complicated. AJC is partnering with Allison Daily from Pathfinders for a 4-week series on healing loss and finding strength together. This group\, open to anyone who has lost a friend or family member in the last few years\, will help provide a container to process the range of emotions that come with grieving. While no path is the same\, we will build community with others who are on a similar journey. If you\, or someone you know\, would benefit from this group\, contact please Rabbi Sima.
URL:https://www.aspenjewish.org/event/bereavement-group/2025-10-22/
LOCATION:Aspen Chapel\, 77 Meadowood Drive\, Aspen\, CO\, 81611\, United States
CATEGORIES:Build Community
ATTACH;FMTTYPE=image/png:https://www.aspenjewish.org/wp-content/uploads/2025/10/bereavement.png
END:VEVENT
BEGIN:VEVENT
DTSTART;TZID=America/Denver:20251015T110000
DTEND;TZID=America/Denver:20251015T123000
DTSTAMP:20260423T092508
CREATED:20251006T202309Z
LAST-MODIFIED:20251006T202342Z
UID:10000109-1760526000-1760531400@www.aspenjewish.org
SUMMARY:Bereavement Group
DESCRIPTION:Grief is complicated. AJC is partnering with Allison Daily from Pathfinders for a 4-week series on healing loss and finding strength together. This group\, open to anyone who has lost a friend or family member in the last few years\, will help provide a container to process the range of emotions that come with grieving. While no path is the same\, we will build community with others who are on a similar journey. If you\, or someone you know\, would benefit from this group\, contact please Rabbi Sima.
URL:https://www.aspenjewish.org/event/bereavement-group/2025-10-15/
LOCATION:Aspen Chapel\, 77 Meadowood Drive\, Aspen\, CO\, 81611\, United States
CATEGORIES:Build Community
ATTACH;FMTTYPE=image/png:https://www.aspenjewish.org/wp-content/uploads/2025/10/bereavement.png
END:VEVENT
BEGIN:VEVENT
DTSTART;TZID=America/Denver:20251008T110000
DTEND;TZID=America/Denver:20251008T123000
DTSTAMP:20260423T092508
CREATED:20251006T202309Z
LAST-MODIFIED:20251006T202342Z
UID:10000108-1759921200-1759926600@www.aspenjewish.org
SUMMARY:Bereavement Group
DESCRIPTION:Grief is complicated. AJC is partnering with Allison Daily from Pathfinders for a 4-week series on healing loss and finding strength together. This group\, open to anyone who has lost a friend or family member in the last few years\, will help provide a container to process the range of emotions that come with grieving. While no path is the same\, we will build community with others who are on a similar journey. If you\, or someone you know\, would benefit from this group\, contact please Rabbi Sima.
URL:https://www.aspenjewish.org/event/bereavement-group/2025-10-08/
LOCATION:Aspen Chapel\, 77 Meadowood Drive\, Aspen\, CO\, 81611\, United States
CATEGORIES:Build Community
ATTACH;FMTTYPE=image/png:https://www.aspenjewish.org/wp-content/uploads/2025/10/bereavement.png
END:VEVENT
BEGIN:VEVENT
DTSTART;TZID=America/Denver:20251005T160000
DTEND;TZID=America/Denver:20251005T170000
DTSTAMP:20260423T092508
CREATED:20250926T220721Z
LAST-MODIFIED:20251004T221740Z
UID:10000100-1759680000-1759683600@www.aspenjewish.org
SUMMARY:October 7 Remembrance
DESCRIPTION:Two years on\, we gather to remember. Observed early because October 7 falls during Sukkot. AJC and Chabad invite the community for a quiet\, prayerful gathering: a text study on memory and resilience and Mourner’s Kaddish. Join for comfort and connect in this heartbreaking time.
URL:https://www.aspenjewish.org/event/october-7-remembrance/
LOCATION:Chabad Aspen\, 435 W. Main St.\, Aspen\, 81611\, United States
CATEGORIES:Build Community
ATTACH;FMTTYPE=image/png:https://www.aspenjewish.org/wp-content/uploads/2025/09/17.png
END:VEVENT
END:VCALENDAR